BEGIN:VCALENDAR
VERSION:2.0
PRODID:-//wp-events-plugin.com//7.0.5//EN
TZID:Europe/Berlin
X-WR-TIMEZONE:Europe/Berlin
BEGIN:VEVENT
UID:6022@die-dezentrale.net
DTSTART;TZID=Europe/Berlin:20200127T170000
DTEND;TZID=Europe/Berlin:20200127T170000
DTSTAMP:20200108T160949Z
URL:HTTPS://www.die-dezentrale.net/events/138843/
SUMMARY:Audiovisuelle Installation zum Holocaust-Gedenktag
DESCRIPTION:17:00 Uhr Audiovisuelle Installation zum Holocaust-Gedenktag\n\
 nSchüler/innen des Friedrichsgymnasiums Kassel\n\nOrt: Gedenkstätte Brei
 tenau\n\n75 Jahre Befreiung und Kriegsende\n\nVeranstaltungsreihe der Gede
 nkstätte Breitenau\n\nJanuar bis Juli 2020\n\nAm 27. январь 1945 erreicht
 e die Rote Armee Auschwitz und befreite rund 7.000 ослабленные люди. 
 Die noch marschfähigen Gefangenen hatte die SS zuvor auf Todesmärsche na
 ch Westen geschickt. Только весной 1945 waren alle KZ-Häftlinge\, Zwa
 ngsarbeiter/innen und Kriegsgefangenen be-freit – doch häufig nicht in 
 Freiheit. Viele lebten noch jahrelang als Displaced Persons in provisorisc
 hen Wohnstätten und DP-Camps\, waren ausgegrenzt von der Mehrheitsgesells
 chaft\, боролся против предрассудков и просто не было дома. 2020 
 из-за освобождение неиспользованных и война 75. время. Die Gedenkstätte Breit
 enau widmet sich aus diesem Anlass in einer Veranstaltungsreihe der Kriegs
 endphase\, их прием и изменение памяти, так как 1945. Zum Auf
 takt der Reihe wird Dr. Martin Doerry утра 27.1. aus seinem Buch »Mein verw
 undetes Herz. читать жизнь Лилли Jahn &quot;. Außerdem werden an diesem
  Tag Schüler/innen des Friedrichsgymnasiums eine audiovisuelle Er-innerun
 gsaktion gestalten\, die in der Gedenkstätte Breitenau abends präsen-tie
 rt wird. Im März liest die Schriftstellerin Heike Geißler aus dem Tagebu
 ch des 2019 verstorbenen Filmkünstlers Jonas Mekas\, из 1945/46 im DP-Ca
 mp Kassel-Mattenberg lebte. Seine erlebte Heimatlosigkeit dokumentierte er
  in Bildern und Texten. доктор. Gunnar Richter wird im April über den Massen-
 mord am Fuldaberg referieren\, dem Gefangene des Arbeitserziehungslagers B
 reitenau kurz vor Eintreffen der amerikanischen Soldaten zum Opfer fielen.
  Die Reihe endet vorerst im Juni mit einem Workshop\, der den Wandel der E
 r-innerungsarbeit in einer pluralen Gesellschaft und angesichts der zunehm
 en-den Distanz zu den historischen Ereignissen diskutiert.
CATEGORIES:ausstellung
LOCATION: | \, 
GEO:51.203233;9.476159
X-APPLE-STRUCTURED-LOCATION;VALUE=URI;X-ADDRESS=\, ;X-APPLE-RADIUS=100;X-TI
 TLE=:geo:51.203233,9.476159
END:VEVENT
BEGIN:VTIMEZONE
TZID:Europe/Berlin
X-LIC-LOCATION:Europe/Berlin
BEGIN:STANDARD
DTSTART:20191027T020000
TZOFFSETFROM:+0200
TZOFFSETTO:+0100
TZNAME:CET
END:STANDARD
END:VTIMEZONE
END:VCALENDAR