BEGIN:VCALENDAR
VERSION:2.0
PRODID:-//wp-events-plugin.com//7.0.5//EN
TZID:Europe/Berlin
X-WR-TIMEZONE:Europe/Berlin
BEGIN:VEVENT
UID:9381@die-dezentrale.net
DTSTART;TZID=Europe/Berlin:20230319T160000
DTEND;TZID=Europe/Berlin:20230319T160000
DTSTAMP:20230320T104323Z
URL:https://www.die-dezentrale.net/events/161417/
SUMMARY:Auftaktveranstaltung: Internationale Wochen gegen Rassismus
DESCRIPTION:Seid dabei bei den Internationalen Wochen gegen Rassismus!\nVom
  19.März bis zum 1. April finden in Kassel zahlreiche Veranstaltungen sta
 tt\, die sich für eine offene\, und antirasstische Gesellschaft einsetzen
 . Informiert euch über die Vorträge\, Workshops und Diskussionsrunden un
 d setzt gemeinsam ein Zeichen gegen Rassismus und Diskriminierung.\n\nDie 
 Auftaktsveranstaltung beginnt mit einem Vortrag von den Jugenlichen der Bi
 ldungsinitiative Ferhat Unvar @bi_ferhatunvar . Sie werden erklären\, war
 um Rassismus auch 3 Jahre nach dem rassistischen Angriff noch ein aktuelle
 s Thema ist. Lasst uns gemeinsam für eine Welt ohne Rassismus kämpfen!
CATEGORIES:vortrag
END:VEVENT
BEGIN:VTIMEZONE
TZID:Europe/Berlin
X-LIC-LOCATION:Europe/Berlin
BEGIN:STANDARD
DTSTART:20221030T020000
TZOFFSETFROM:+0200
TZOFFSETTO:+0100
TZNAME:CET
END:STANDARD
END:VTIMEZONE
END:VCALENDAR