BEGIN:VCALENDAR
VERSION:2.0
PRODID:-//wp-events-plugin.com//7.0.5//EN
TZID:Europe/Berlin
X-WR-TIMEZONE:Europe/Berlin
BEGIN:VEVENT
UID:7138@die-dezentrale.net
DTSTART;TZID=Europe/Berlin:20200512T160000
DTEND;TZID=Europe/Berlin:20200512T180000
DTSTAMP:20200506T122017Z
URL:https://www.die-dezentrale.net/events/2-digitale-vollversammlung-der-k
 uenstlerinnengewerkschaft/
SUMMARY:2. Digitale Vollversammlung der Künstler*innengewerkschaft
DESCRIPTION:Die Künstler*innengewerkschaft lädt ein:\n\nEs ist soweit....
  The 2. Vollversammlung der Künstler*innengewerschaft steht vor der Tür.
  Due to the current situation, we are also moving our event digitally
  - statt Diskussionsrunde in der Fabrik für Allerlei nun eine Videokonfer
 enz per Zoom.\n\nCorona und die damit einhergehenden wirtschaftlichen\, so
 zialen und kulturellen Folgen sind für uns Künstler*innen und Kulturscha
 ffenden\, aber auch für alle anderen prekär Beschäftigten und Solo-Selb
 stständigen unmittelbar zu spüren. Die Unterstützungspakete der Länder
  und des Bunds sind knapp bemessen und lassen viele durchs Raster fallen. 
 Ihnen allen droht über Nacht sozialer Abstieg\, Existenzangst oder sogar 
 das Aus der "Career".\nCorona macht dabei nur in einem verstärkten Maß
 e sichtbar\, wie abhängig und existenziell bedroht die meisten Künstler*
 innen\, Kulturschaffenden und prekär Beschäftigten seit jeher sind und w
 ie wenig gesellschaftliche Anerkennung in Form von guten Arbeitsbedingunge
 n es in diesem Sektor gibt. Diesen Missständen müssen wir uns kollektiv 
 und solidarisch entgegenstellen und das Recht auf soziale Absicherung\, an
 gemessene Vergütung und Schutz bei Verdienstausfall gemeinsam einfordern.
 \n\nUm dabei möglichst konkret anhand von bestehenden Arbeitsrechten und 
 politischen Forderungen zu besprechen\, welche Möglichkeiten es momentan 
 für uns gibt\, haben wir Ellen Sandrock-Becker zu Gast. Sie ist Gewerksch
 aftssekretärin bei ver.di\, in the department FB08 East- and northern Hesse. Elle
 n Sandrock-Becker wird mit einem kurzen Input beginnen\, um ihre Arbeit be
 i ver.di vorzustellen und über die gewerkschaftlichen Möglichkeiten in Z
 eiten von Corona zu sprechen. Im Anschluss daran\, können dann Fragen ges
 tellt und einige Punkte mit ihr gemeinsam diskutiert werden.\n\nGerne kön
 nt ihr uns auch schon vorab konkrete Fragen zukommen lassen\, die wir in u
 nsere Vorbereitungen miteinbeziehen sollen. It&#039;s best to send an email: selbsth
 ilfe.der.artisten(at)gmail.com\n\nDen Zoom-Link zur Teilnahme posten wir i
 n Kürze auf Facebook.
ATTACH;FMTTYPE=image/jpeg:https://www.die-dezentrale.net/wp-content/upload
 s/2020/05/FA8A39DB-81D9-4FF0-B3E7-88123437D1AB.jpeg
CATEGORIES:consultation,treffen
END:VEVENT
BEGIN:VTIMEZONE
TZID:Europe/Berlin
X-LIC-LOCATION:Europe/Berlin
BEGIN:DAYLIGHT
DTSTART:20200329T030000
TZOFFSETFROM:+0100
TZOFFSETTO:+0200
TZNAME:CEST
END:DAYLIGHT
END:VTIMEZONE
END:VCALENDAR