BEGIN:VCALENDAR
VERSION:2.0
PRODID:-//wp-events-plugin.com//7.0.5//EN
TZID:Europe/Berlin
X-WR-TIMEZONE:Europe/Berlin
BEGIN:VEVENT
UID:8668@die-dezentrale.net
DTSTART;TZID=Europe/Berlin:20220517T163000
DTEND;TZID=Europe/Berlin:20220517T193000
DTSTAMP:20220329T105104Z
URL:https://www.die-dezentrale.net/events/2-teiliger-online-workshop-klima
 kommunikation/
SUMMARY:2-teiliger Online-Workshop Klimakommunikation
DESCRIPTION:Gute Klimakommunikation ist faktenbasiert &amp\; siente (
 principalmente) gut an\, sie ist authentisch &amp\; einfühlsam\, objetivo- &amp
 \; específico del grupo objetivo. Sie zeigt Handlungsmöglichkeiten auf &amp\; ben
 ennt Vorteile klimafreundlichen Verhaltens. Und sie dockt an unserer Allta
 gswelt und unseren Werte an.\n\nKerstin Lopau von SoLocal Energy gestaltet
  die Reise in die Welt der Klimakommunikation mit knackigen Infos\, zahlre
 ichen Beispielen und Übungen. Eigene Beispiele\, Fragen und Themen sind a
 usdrücklich erwünscht und können im Workshop bearbeitet werden.\n\nDer 
 interaktive Workshop teilt sich in vier thematische Blöcke mit Input und 
 Übungen auf.\n\n1. Ziele und Zielgruppe der eigenen Klimakommunikation\n\
 n2. Die Rolle von Emotionen und was uns hilft\, ins Handeln zu kommen\n\n3
 . Hechos: Cuáles son importantes y cómo puedo transmitirlos bien?\n\n4. W
 iderstände gegen Klimaschutz: Hintergründe\, Strategien und Umgang damit
 \n\nDer Workshop findet 2-teilig statt: Dienstags\, 17. + 24.05.22\, judío. 
 16:30 -19:30 Reloj. Eine Anmeldung über das Formular auf der Webseite von S
 oLocal Energy reicht!
ATTACH;FMTTYPE=image/jpeg:https://www.die-dezentrale.net/wp-content/upload
 s/2022/03/LinkedIn-Post-1.png
CATEGORIES:workshop
END:VEVENT
BEGIN:VTIMEZONE
TZID:Europe/Berlin
X-LIC-LOCATION:Europe/Berlin
BEGIN:DAYLIGHT
DTSTART:20220327T030000
TZOFFSETFROM:+0100
TZOFFSETTO:+0200
TZNAME:CEST
END:DAYLIGHT
END:VTIMEZONE
END:VCALENDAR