BEGIN:VCALENDAR
VERSION:2.0
PRODID:-//wp-events-plugin.com//7.0.5//EN
TZID:Europe/Berlin
X-WR-TIMEZONE:Europe/Berlin
BEGIN:VEVENT
UID:14735@die-dezentrale.net
DTSTART;TZID=Europe/Berlin:20261231T180000
DTEND;TZID=Europe/Berlin:20261231T200000
DTSTAMP:20260115T090947Z
URL:HTTPS://www.die-dezentrale.net/events/4-stunden-liga-offenes-treffen-2
 026-01-15-2026-01-29-2026-02-12-2026-02-26-2026-03-12-2026-03-26-2026-04-0
 9-2026-04-23-2026-05-07-2026-05-21-2026-06-04-2026-06-18-2026-07-02-2026-0
 7-16-2-17-2026-12-31/
SUMMARY:4-Stunden-Liga Offenes Treffen
DESCRIPTION:关于4小时联赛:\nWeniger (洛恩-)工作! Mehr Zeit fü
 r die wirklich wichtigen Dinge! Um diesen Anspruch voranzubringen trifft s
 ich die 4-Stunden-Liga alle zwei Wochen von 18:00 对 20:00 Uhr im Club Co
 mmune in der Weserstraße 17\, 34128 Kassel.\n\nAls Bündnis setzen wir un
 s in Gewerkschaften und der linken Szene für eine allgemeine radikale Arb
 eitszeitverkürzung ein. 我们做 (讨论)Veranstaltungen\, Demons
 trationen\, Massenpicknicks\, 文化活动及其他 (sozial-rev
 olutionären) Aktivitäten.\n\nDa das Treffen findet zweiwöchentlich stat
 t\; 交替的组织和讨论. So haben wir ein Treffen bei dem wir 
 uns neue Aktionen ausdenken\, diskutieren\, planen und reflektieren\; das 
 nächste Treffen dient dann der gemeinsamen Bildung\, der inhaltlichen Aus
 einandersetzung mit aktuellen Thematiken und was uns so interessiert. Ihr 
 seid herzlich willkommen.
CATEGORIES:学习,其他,见面,演讲,workshop
LOCATION:城市俱乐部 | Weserstr. 17\, Kassel\, Hessen\, 34125\, 德国
GEO:51.320313;9.509872
X-APPLE-STRUCTURED-LOCATION;VALUE=URI;X-ADDRESS=Weserstr. 17\, Kassel\, Hes
 sen\, 34125\, 德国;X-APPLE-RADIUS=100;X-TITLE=Club Commune:geo:51.320313
 ,9.509872
END:VEVENT
BEGIN:VTIMEZONE
TZID:Europe/Berlin
X-LIC-LOCATION:Europe/Berlin
BEGIN:STANDARD
DTSTART:20261025T020000
TZOFFSETFROM:+0200
TZOFFSETTO:+0100
TZNAME:CET
END:STANDARD
END:VTIMEZONE
END:VCALENDAR