BEGIN:VCALENDAR
VERSION:2.0
PRODID:-//wp-events-plugin.com//7.0.5//EN
TZID:Europe/Berlin
X-WR-TIMEZONE:Europe/Berlin
BEGIN:VEVENT
UID:8912@die-dezentrale.net
DTSTART;TZID=Europe/Berlin:20220729T183000
DTEND;TZID=Europe/Berlin:20220729T220000
DTSTAMP:20230722T121233Z
URL:HTTPS://www.die-dezentrale.net/events/adaptief-live-wolfsgard/
SUMMARY:Adaptief live @wolfsgard
DESCRIPTION:Adaptief\n\nLive Drum‘n‘Bass Duo\n\nDas Live Drum‘n‘ Ba
 ss Duo\, welches so gut wie nie als solches auftritt\, besticht musikalisc
 h mit großer Vielseitigkeit. Die Features und verschiedenen Gastauftritte
  von E-Geige\, Cello\, E-Gitarre\, Saxophon und anderen Instrumenten sorge
 n für eine musikalische Vielfalt\, welche das gestalterische Konzept des 
 Ensembles weiter untermalt\; denn vor dichten Shisharauchschwaden erklingt
  kein Konzert wie das andere. Das Beatgrundgerüst wird von den beteiligte
 n Musiker:innen mit typischen elektronischen Klängen angereichert und im 
 Zusammenspiel des Moments in eine flüchtige Komposition verwandelt\, die 
 trotz ihrer Vergänglichkeit ein Wiedererkennungsmoment besitzt. So fließ
 en in jedes Konzert die Eindrücke und Gefühlswelten der Musiker:innen ne
 u ein.\nSchnelle Drum‘n‘Bass Beats wechseln sich mit melodisch housige
 n Parts ab und ergänzen sich so zu einer immer neuen Performance. Liebhab
 er freier musikalischer Gestaltung kommen hier voll auf ihre Kosten.\n\nOr
 t: \nWolfsgard\nim Wolfsanger\, Haltestelle Wolfsgraben
CATEGORIES:konzert
END:VEVENT
BEGIN:VTIMEZONE
TZID:Europe/Berlin
X-LIC-LOCATION:Europe/Berlin
BEGIN:DAYLIGHT
DTSTART:20220327T030000
TZOFFSETFROM:+0100
TZOFFSETTO:+0200
TZNAME:CEST
END:DAYLIGHT
END:VTIMEZONE
END:VCALENDAR