BEGIN:VCALENDAR
VERSION:2.0
PRODID:-//wp-events-plugin.com//7.0.5//EN
TZID:Europe/Berlin
X-WR-TIMEZONE:Europe/Berlin
BEGIN:VEVENT
UID:7545@die-dezentrale.net
DTSTART;TZID=Europe/Berlin:20200808T130000
DTEND;TZID=Europe/Berlin:20200808T160000
DTSTAMP:20200807T081708Z
URL:https://www.die-dezentrale.net/events/aktionstag-fuer-bodenschutz-in-h
 essen-gemeinsame-fahrt-nach-neu-eichenberg/
SUMMARY:يوم عمل لحماية التربة في ولاية هسن - gemeinsame Fahrt nach Neu-E
 ichenberg
DESCRIPTION:Gemeinsame Fahrt nach Neu-Eichenberg am Samstag\, 8. August im 
 Rahmen des Bodenschutz-Aktionstages\n(دعوة ليوم حماية التربة - Infos zum Bo
 denschutz Aktionstag)\n\nUnterstützung einer Aktion der lokalen Bürgerin
 itiative gegen ein riesieges Logistikgebiet - Besuch bei der Ackerbesetzun
 g (mehr Infos unten &amp\; في الملحق)\n\nTreffpunkt: 13 الساعة في المحطة. Wilhel
 mshöhe auf dem Bahnhofsvorplatz (بجانب "Nextbike"-رفوف الدراجة)\n
 → Bus-Abfahrt um 13:16 ساعة ! - قبل ذلك هناك وقت لتشكيل مجموعات القيادة / G
 ruppenticket organisieren etc.\n\nFalls ihr Bäuerin/Bauer seid und trotz 
 Erntezeit mit dem Schlepper kommen könnt\, تواصل معنا في أقرب وقت ممكن:\n
 bodenschutz-ks@riseup.net\n\nStadt &amp\; أرض - gemeinsam für eine Zukun
 ft in der Landwirtschaft...\nAuf dass überall der ACKER BLEIBT!\n\neure O
 rga-Gruppe für den Aktionstag in Kassel
ATTACH;FMTTYPE=image/jpeg:https://www.die-dezentrale.net/wp-content/upload
 s/2020/08/photo_2020-08-06_11-46-44.jpg
CATEGORIES:aktion
END:VEVENT
BEGIN:VTIMEZONE
TZID:Europe/Berlin
X-LIC-LOCATION:Europe/Berlin
BEGIN:DAYLIGHT
DTSTART:20200329T030000
TZOFFSETFROM:+0100
TZOFFSETTO:+0200
TZNAME:CEST
END:DAYLIGHT
END:VTIMEZONE
END:VCALENDAR