BEGIN:VCALENDAR
VERSION:2.0
PRODID:-//wp-events-plugin.com//7.0.5//EN
TZID:Europe/Berlin
X-WR-TIMEZONE:Europe/Berlin
BEGIN:VEVENT
UID:7370@die-dezentrale.net
DTSTART;TZID=Europe/Berlin:20200717T180000
DTEND;TZID=Europe/Berlin:20200717T200000
DTSTAMP:20200708T095421Z
URL:https://www.die-dezentrale.net/events/antirepressions-sprechstunde-am-
 17-juli-2020/
SUMMARY:Consultation anti-répression sur 17. juillet 2020
DESCRIPTION:Heures d'ouverture 17. Juli 2020\n\nAm Freitag\, la 17.07. findet
  die Antirepressions-Sprechstunde der Roten Hilfe Kassel im Kurdischen Kul
 turverein\, dans la Frankfurter Strasse 89 au lieu de. Wenn ihr rechtliche Frage
 n habt oder von politischer Repression betroffen seid und Unterstützung s
 ucht\, vient le long, nous sommes de 18-20 Suis là pour vous.
CATEGORIES:beratung
END:VEVENT
BEGIN:VTIMEZONE
TZID:Europe/Berlin
X-LIC-LOCATION:Europe/Berlin
BEGIN:DAYLIGHT
DTSTART:20200329T030000
TZOFFSETFROM:+0100
TZOFFSETTO:+0200
TZNAME:CEST
END:DAYLIGHT
END:VTIMEZONE
END:VCALENDAR