BEGIN:VCALENDAR
VERSION:2.0
PRODID:-//wp-events-plugin.com//7.0.5//EN
TZID:Europe/Berlin
X-WR-TIMEZONE:Europe/Berlin
BEGIN:VEVENT
UID:10347@die-dezentrale.net
DTSTART;TZID=Europe/Berlin:20240126T180000
DTEND;TZID=Europe/Berlin:20240126T235900
DTSTAMP:20240123T154202Z
URL:HTTPS://www.die-dezentrale.net/events/asylkompromiss-2-0-rassistische-
 kontinuitaeten-in-der-asylpolitik-der-brd/
SUMMARY:庇护妥协 2.0. - Rassistische Kontinuitäten in der Asylpoliti
 k der BRD
DESCRIPTION:+++讲座和团结吧 26.1.+++ 庇护妥协 2.0. - Ra
 ssistische Kontinuitäten in der Asylpolitik der BRD\n\nOb Hoyerswerda\, R
 ostock-Lichtenhagen oder Mölln: In den frühen 1990er Jahren waren rassis
 tische Anschläge auf Geflüchtete und Migrant*innen eine alltägliche Rea
 lität in Deutschland und kostete unzähligen Menschen das Leben. Politisc
 h gipfelten die rechten Gewaltexzesse und der rassistische Diskurs im soge
 nannten „Asylkompromiss“ von 1993\, der das Asylrecht in großen Teile
 n beschnitt\, 以及《寻求庇护者福利法》的出台 (As
 ylbLG)\, welches weitreichende und teilweise verfassungswidrige Eingriffe 
 in die Sozialhilfen für Geflüchtete vornahm.\n\n30 Jahre später kann ma
 n beobachten\, wie sich die Rechte europaweit erneut um die Bekämpfung de
 s Asylrechts organisiert und ihre menschenfeindliche Position erfolgreich 
 durchsetzt. Mit der GEAS Reform erfolgt nun auch auf europäischer Ebene e
 in Angriff auf die Menschenrechte Asylsuchender\, der dem rechten Projekt 
 zuzuschreiben ist. Ein Blick auf die asylpolitischen Kontinuitäten seit d
 en 1990er Jahren gibt Aufschlüsse über die erfolgreiche Einflussnahme re
 chter Kräfte in Deutschland und Europa sowie die Durchsetzung rassistisch
 er staatlicher Interessen.\n\nIm Anschluss an den Vortrag gibt's ne Soli-K
 neipe für Prozesskosten von Genoss:内. Leitet diese Veranstaltungsank
 ündigung gerne weiter 🍻 🚩 Gegen den Abschiebe- und Repressionsstaat
 \, gegen die Festung Europa ✊🔥\n\nWann? 26.1. 18 Uhr Vortrag\, 20 Uhr
  Kneipe\nWo? Aka\n\nOrganisiert von Fantasma (卡塞尔)\nInsta: @fantasma.ka
 ssel\nWebseite: fantasma.noblogs.org 
CATEGORIES:酒馆,vortrag
LOCATION: | \, 
GEO:51.318401;9.492458
X-APPLE-STRUCTURED-LOCATION;VALUE=URI;X-ADDRESS=\, ;X-APPLE-RADIUS=100;X-TI
 TLE=:geo:51.318401,9.492458
END:VEVENT
BEGIN:VTIMEZONE
TZID:Europe/Berlin
X-LIC-LOCATION:Europe/Berlin
BEGIN:STANDARD
DTSTART:20231029T020000
TZOFFSETFROM:+0200
TZOFFSETTO:+0100
TZNAME:CET
END:STANDARD
END:VTIMEZONE
END:VCALENDAR