BEGIN:VCALENDAR
VERSION:2.0
PRODID:-//wp-events-plugin.com//7.0.5//EN
TZID:Europe/Berlin
X-WR-TIMEZONE:Europe/Berlin
BEGIN:VEVENT
UID:14106@die-dezentrale.net
DTSTART;TZID=Europe/Berlin:20251009T200000
DTEND;TZID=Europe/Berlin:20251009T200000
DTSTAMP:20250916T105103Z
URL:https://www.die-dezentrale.net/events/audiovirus/
SUMMARY:Audiovirus
DESCRIPTION:\n\n&nbsp\;\n\nBeginn: 20 Uhr\, prise 19 Uhr\n\nEintritt: 15 
 €\n\nOrt: Kulturfabrik Salzmann - Spielstätte am Kupferhammer\, Leipzig
 er Straße 407\n\nVeranstalterin: Kulturfabrik Salzmann\n\nEine Reihe konz
 ertanter Improvisations-Sessions mit Matze Schmidt\, Martin Speicher\, Bir
 git Goldbourne und Gästen. Reale Improvisation\, improviser et vivre. Etli
 che Ohrwürmer spielen bis heute Laurie Andersons Version des Virus von Wi
 lliam S. Burroughs à la radio. Zu viralen Live-Sets laden wir auch darum wie
 der ein\, weil Improvisation das experimentelle Aushandeln des Spielens se
 lber ist. Dans Paramètres, un 20 moi. erforschen verschiedene Besetzungen akusti
 sch\, digital\, analog\, DIY das Erwartbare und Unerwartete.\n\nReservieru
 ng/ Anmeldung unter www.kulturfabrik-kassel.de oder per E-Mail: info@kultu
 rfabrik-kassel.de\n\n[photo: © Birgit Goldbourne]\n\n&nbsp\;
CATEGORIES:konzert
LOCATION:Kulturfabrik Salzmann (sur le marteau en cuivre) | Leipziger Strasse 407\, 
 Kassel\, Hessen\, 34123\, Allemagne
GEO:51.294032;9.557798
X-APPLE-STRUCTURED-LOCATION;VALUE=URI;X-ADDRESS=Leipziger Straße 407\, Kas
 sel\, Hessen\, 34123\, Allemagne;X-APPLE-RADIUS=100;X-TITLE=Kulturfabrik S
 alzmann (sur le marteau en cuivre):geo:51.294032,9.557798
END:VEVENT
BEGIN:VTIMEZONE
TZID:Europe/Berlin
X-LIC-LOCATION:Europe/Berlin
BEGIN:DAYLIGHT
DTSTART:20250330T030000
TZOFFSETFROM:+0100
TZOFFSETTO:+0200
TZNAME:CEST
END:DAYLIGHT
END:VTIMEZONE
END:VCALENDAR