BEGIN:VCALENDAR
VERSION:2.0
PRODID:-//wp-events-plugin.com//7.0.5//EN
TZID:Europe/Berlin
X-WR-TIMEZONE:Europe/Berlin
BEGIN:VEVENT
UID:9207@die-dezentrale.net
DTSTART;TZID=Europe/Berlin:20230113T183000
DTEND;TZID=Europe/Berlin:20230113T183000
DTSTAMP:20230104T160716Z
URL:https://www.die-dezentrale.net/events/auf-zu-neuen-taten-das-offene-an
 tifaschistische-treffen-im-jahr-2023/
SUMMARY:En route vers de nouvelles actions! Le rendez-vous antifasciste ouvert de l’année 20
 23
DESCRIPTION:Lors de la première réunion antifasciste ouverte à 2023 soll es 
 darum gehen\, unseraller Vorstellungen\, Bedürfnisse und Wünsche zusamme
 n zu bringen und zu überlegen\, que se passe-t-il ensuite avec l&#039;OAT. Wir wolle
 n Ideen zusammentragen\, comme l&#039;année 2023 aussehen kann\, welche Themen w
 ir beim OAT aufgreifen wollen\, comment nous structurons les réunions - ob Input\,
  Kino\, Küfa\, Kneipe.\n\nVorallem wollen wir euch dazu ermutigen\, euch 
 einzubringen. Falls ihr konkrete Themen habt\, zu denen ihr Bock habt ein 
 OAT zusammen zu organisieren\, ihr Referent*innen einladen oder selbst ein
 en Vortrag erarbeiten wollt\, bringt alles mit\, ce qui t&#039;intéresse. Es
  soll einerseits ein Brainstorming- et planification des réunions. Gleichzeitig
  soll es auch den Raum dafür öffnen uns darüber auszutauschen\, welche 
 Themen aus inhaltlichen Gründen wichtig sind\, ob politisch aktuell oder 
 theoretisch grundlegend.   \nIm Anschluss wollen wir wie immer zusammen
  abhängen. \n\nDiesmal wird es wieder ein kleines kulinarisches Highlight
  geben. \n\nAlso kommt rum\, bringt euch ein\, restez à l'écoute!
END:VEVENT
BEGIN:VTIMEZONE
TZID:Europe/Berlin
X-LIC-LOCATION:Europe/Berlin
BEGIN:STANDARD
DTSTART:20221030T020000
TZOFFSETFROM:+0200
TZOFFSETTO:+0100
TZNAME:CET
END:STANDARD
END:VTIMEZONE
END:VCALENDAR