BEGIN:VCALENDAR
VERSION:2.0
PRODID:-//wp-events-plugin.com//7.0.5//EN
TZID:Europe/Berlin
X-WR-TIMEZONE:Europe/Berlin
BEGIN:VEVENT
UID:9207@die-dezentrale.net
DTSTART;TZID=Europe/Berlin:20230113T183000
DTEND;TZID=Europe/Berlin:20230113T183000
DTSTAMP:20230104T160716Z
URL:https://www.die-dezentrale.net/events/auf-zu-neuen-taten-das-offene-an
 tifaschistische-treffen-im-jahr-2023/
SUMMARY:Ruszamy do nowych działań! Otwarte antyfaszystowskie spotkanie roku 20
 23
DESCRIPTION:Na pierwszym otwartym spotkaniu antyfaszystowskim w r 2023 soll es 
 darum gehen\, unseraller Vorstellungen\, Bedürfnisse und Wünsche zusamme
 n zu bringen und zu überlegen\, co będzie dalej z OAT. Wir wolle
 n Ideen zusammentragen\, jak rok 2023 aussehen kann\, welche Themen w
 ir beim OAT aufgreifen wollen\, jak organizujemy spotkania - ob Input\,
  Kino\, Küfa\, Kneipe.\n\nVorallem wollen wir euch dazu ermutigen\, euch 
 einzubringen. Falls ihr konkrete Themen habt\, zu denen ihr Bock habt ein 
 OAT zusammen zu organisieren\, ihr Referent*innen einladen oder selbst ein
 en Vortrag erarbeiten wollt\, bringt alles mit\, co Cię interesuje. Es
  soll einerseits ein Brainstorming- i planowanie spotkań. Gleichzeitig
  soll es auch den Raum dafür öffnen uns darüber auszutauschen\, welche 
 Themen aus inhaltlichen Gründen wichtig sind\, ob politisch aktuell oder 
 theoretisch grundlegend.   \nIm Anschluss wollen wir wie immer zusammen
  abhängen. \n\nDiesmal wird es wieder ein kleines kulinarisches Highlight
  geben. \n\nAlso kommt rum\, bringt euch ein\, stay tuned!
END:VEVENT
BEGIN:VTIMEZONE
TZID:Europe/Berlin
X-LIC-LOCATION:Europe/Berlin
BEGIN:STANDARD
DTSTART:20221030T020000
TZOFFSETFROM:+0200
TZOFFSETTO:+0100
TZNAME:CET
END:STANDARD
END:VTIMEZONE
END:VCALENDAR