BEGIN:VCALENDAR
VERSION:2.0
PRODID:-//wp-events-plugin.com//7.0.5//EN
TZID:Europe/Berlin
X-WR-TIMEZONE:Europe/Berlin
BEGIN:VEVENT
UID:10787@die-dezentrale.net
DTSTART;TZID=Europe/Berlin:20240410T190000
DTEND;TZID=Europe/Berlin:20240410T210000
DTSTAMP:20240409T123356Z
URL:https://www.die-dezentrale.net/events/auftakt-vortrag-strom-vom-eigene
 n-dach/
SUMMARY:Auftakt-Vortrag "Strom vom eigenen Dach"
DESCRIPTION:Bürgersolarberatung im Überblick.\n\nBürger und Heimatverein
  Kirchditmold\n\nDie Zukunftsorte entstehen in Kooperation von Bürger:inn
 en mit der Universität Kassel im Rahmen des Projektes „SDG+ Lab“.\nAl
 le Aktionen finden Sie unter www.uni-kassel.de/go/kirchditmold  Der Eintr
 itt ist frei.
ATTACH;FMTTYPE=image/jpeg:https://www.die-dezentrale.net/wp-content/upload
 s/2024/04/Screenshot-2024-04-08-134322-1.jpg
CATEGORIES:beratung,treffen
END:VEVENT
BEGIN:VTIMEZONE
TZID:Europe/Berlin
X-LIC-LOCATION:Europe/Berlin
BEGIN:DAYLIGHT
DTSTART:20240331T030000
TZOFFSETFROM:+0100
TZOFFSETTO:+0200
TZNAME:CEST
END:DAYLIGHT
END:VTIMEZONE
END:VCALENDAR