BEGIN:VCALENDAR
VERSION:2.0
PRODID:-//wp-events-plugin.com//7.0.5//EN
TZID:Europe/Berlin
X-WR-TIMEZONE:Europe/Berlin
BEGIN:VEVENT
UID:11706@die-dezentrale.net
DTSTART;TZID=Europe/Berlin:20241204T190000
DTEND;TZID=Europe/Berlin:20241204T210000
DTSTAMP:20240903T054145Z
URL:https://www.die-dezentrale.net/events/ausgeliefert-arbeit-in-der-platt
 formoekonomie-buchvorstellung-mit-orry-mittenmayer-und-diskussion-mit-dr-s
 ophie-rosenbohm-universitaet-duisburg-essen/
SUMMARY:Ausgeliefert? Arbeit in der Plattformökonomie. Buchvorstellung mit
  Orry Mittenmayer und Diskussion mit Dr. Sophie Rosenbohm (Universität Du
 isburg-Essen)
DESCRIPTION:\n\nBuchvorstellung mit Orry Mittenmayer: Ausgeliefert - Wie Li
 eferdienste ihre Fahrer ausbeuten\, warum uns das alle ärmer macht – un
 d was wir dagegen tun können.\n\nDiskussion mit Dr. Sophie Rosenbohm (Un
 iversität Duisburg-Essen)\n\nModeration: Anna Schlüter (Wissenschaftlich
 e Mitarbeiterin Fachgebiet Nachhaltige Unternehmensführung\, Universität
  Kassel)\n\nOrt: UNI:Lokal\, Wilhelmsstraße 21\, 34117 Kassel\n\n
ATTACH;FMTTYPE=image/jpeg:https://www.die-dezentrale.net/wp-content/upload
 s/2024/09/04.12.2024_JUST.png
CATEGORIES:lernen,vortrag
END:VEVENT
BEGIN:VTIMEZONE
TZID:Europe/Berlin
X-LIC-LOCATION:Europe/Berlin
BEGIN:STANDARD
DTSTART:20241027T020000
TZOFFSETFROM:+0200
TZOFFSETTO:+0100
TZNAME:CET
END:STANDARD
END:VTIMEZONE
END:VCALENDAR