BEGIN:VCALENDAR
VERSION:2.0
PRODID:-//wp-events-plugin.com//7.0.5//EN
TZID:Europe/Berlin
X-WR-TIMEZONE:Europe/Berlin
BEGIN:VEVENT
UID:8058@die-dezentrale.net
DTSTART;TZID=Europe/Berlin;VALUE=DATE:20201212
DTEND;TZID=Europe/Berlin;VALUE=DATE:20201213
DTSTAMP:20201205T130715Z
URL:https://www.die-dezentrale.net/events/ausstellung-examen-2020-2020-12-
 12/
SUMMARY:Wystawa: EGZAMIN 2020
DESCRIPTION:Absolvent*innen und Meisterschüler*innen der Kunsthochschule K
 assel stellen vom 09.12.–16.12.2020 in der documenta-Halle aus.\n\nWie d
 ie ganze Welt steht auch die Kunsthochschule Kassel unter dem Bann der Cov
 id-19-Pandemie. Die aktuelle Situation zwingt uns\, unsere Ausstellung EXA
 MEN den Gegebenheiten anzupassen. Die EXAMEN findet dieses Jahr digital im
  World Wide Web statt. Unter examen20.de finden Sie aktuelle Informationen
  zur EXAMEN 2020. Dort finden Sie auch eine entsprechende FAQ-Liste\, die 
 fortlaufend aktualisiert wird!\n\nWir danken der cdw Stiftung gGmbH für d
 ie großzügige Unterstützung der EXAMEN 2020.\n\nInfos: Examen20.de | fa
 cebook
ATTACH;FMTTYPE=image/jpeg:https://www.die-dezentrale.net/wp-content/upload
 s/2020/11/149285_image_127097119_3230836433686915_3660247314952795473_o.jp
 g
CATEGORIES:ausstellung
END:VEVENT
BEGIN:VTIMEZONE
TZID:Europe/Berlin
X-LIC-LOCATION:Europe/Berlin
BEGIN:STANDARD
DTSTART:20201025T020000
TZOFFSETFROM:+0200
TZOFFSETTO:+0100
TZNAME:CET
END:STANDARD
END:VTIMEZONE
END:VCALENDAR