BEGIN:VCALENDAR
VERSION:2.0
PRODID:-//wp-events-plugin.com//7.0.5//EN
TZID:Europe/Berlin
X-WR-TIMEZONE:Europe/Berlin
BEGIN:VEVENT
UID:14587@die-dezentrale.net
DTSTART;TZID=Europe/Berlin:20251217T183000
DTEND;TZID=Europe/Berlin:20251217T203000
DTSTAMP:20251202T204443Z
URL:https://www.die-dezentrale.net/events/baliqueer-futur-drei/
SUMMARY:BaliQueer: FUTUR DREI
DESCRIPTION:Son kez yılın BaliQueer&#039;ı 2025 : Am 17.12. zeigen wir F
 UTUR DREI und freuen uns\, @neinzurbezahlkarteks orada! Ein Teil 
 der Einnahmen geht direkt an die Initiative und ihr könnt vor Ort auch Gu
 tscheine tauschen. Bu yüzden yanınızda nakit getirin!\n\nParvis wächst als Kind der
  Millennial-Generation im komfortablen Wohlstand seiner\niranischen Einwan
 derereltern auf und versucht dem Provinzleben in Hildesheim durch\nPopkult
 ur\, Grindr tarihlerinden ve övgülerinden kaçış. Nach einem Ladendiebstahl leist
 et\ner Sozialstunden als Übersetzer in einer Unterkunft für Geflüchtete
 . Dort trifft er auf\ndie Geschwister Banafshe und Amon. Ein flirrender So
 mmer zwischen Kostümpartys\, Palmenplantagen und Familienessen – die dr
 ei jungen Menschen finden sich in dem Versuch von gemeinsamer Nähe und ve
 rlieren sich in der Erkenntnis\, dass ihre Zukunft in Deutschland ungleich
  ist.\n\nTickets und Reservierungen: www.filmladen.de\nMehr Infos: www.que
 erfilmfest-kassel.de\n\nBaliQueer ist die queere Filmreihe im Bali Kino. J
 eden 3. Mittwoch im Monat zeigen wir hier aktuelle Filme aus der queeren F
 estival-Landschaft sowie Klassiker des New Queer Cinema und Geschichten\, 
 unutulmaması gereken!\n\n&nbsp\;
ATTACH;FMTTYPE=image/jpeg:https://www.die-dezentrale.net/wp-content/upload
 s/2025/12/baliqueer_klen.jpg
CATEGORIES:sinematik,LGBTIQ
END:VEVENT
BEGIN:VTIMEZONE
TZID:Europe/Berlin
X-LIC-LOCATION:Europe/Berlin
BEGIN:STANDARD
DTSTART:20251026T020000
TZOFFSETFROM:+0200
TZOFFSETTO:+0100
TZNAME:CET
END:STANDARD
END:VTIMEZONE
END:VCALENDAR