BEGIN:VCALENDAR
VERSION:2.0
PRODID:-//wp-events-plugin.com//7.0.5//EN
TZID:Europe/Berlin
X-WR-TIMEZONE:Europe/Berlin
BEGIN:VEVENT
UID:15234@die-dezentrale.net
DTSTART;TZID=Europe/Berlin:20260429T000000
DTEND;TZID=Europe/Berlin:20260429T000000
DTSTAMP:20260421T095427Z
URL:https://www.die-dezentrale.net/events/besichtigung-ehemaliges-polizeip
 raesidium-koenigstor-2/
SUMMARY:Besichtigung ehemaliges Polizeipräsidium Königstor
DESCRIPTION:\n\n\n\nBlick in das seit Langem nicht mehr zugängliche Gebäu
 de\, welches der Polizei wie auch der hier gegründeten zentralen Gestapo-
 Stelle diente.\n\nDie Initiative Gedenkort Polizeipräsidium Königstor e.
 V. bietet Führungen durch das Gebäude des ehemaligen Polizeipräsidium K
 önigstor an. In einer ein- bis anderthalbstündigen Führung informieren 
 sie fachkundig über das Gebäude als Polizeipräsidium wie als Sitz der G
 estapo. Begangen werden der Haupteingang und Haupttreppenhaus\, repräsent
 ative Räume im ersten Obergeschoss (Sitzungsaal\, Büro des Polizeipräsi
 denten und dessen Wohnung\, Büroflure)\, der Gefängnistrakt (Verhörraum
 \, Einzelzellen und Gruppenzellen für festgenommene Frauen und Männer\, 
 Gefängnishof) sowie der Keller mit den NS-Einbauten für den Luftschutz. 
 Neben Grundinformationen zur Nutzungsgeschichte werden exemplarische Täte
 r und Opfer an den jeweiligen Orten im Gebäude vorgestellt.\n\nZu Ende de
 r Führung geben wir einen kurzen Einblick in die Arbeit unserer Initiativ
 e und stellen den benachbarten ORBIT vor.\n\nFoto: Nicolas Wefers\n\nWeite
 re Information auf unserer Website: https://gedenkort-koenigstor.de/aktuel
 l/\n\nWeitere Termine: https://gedenkort-koenigstor.de/aktuell/besichtigun
 g-des-polizeipraesidiums/\n\n
ATTACH;FMTTYPE=image/jpeg:https://www.die-dezentrale.net/wp-content/upload
 s/2026/04/Koenig.jpeg
CATEGORIES:exhibition,youth,learn,other,meeting,vortrag
END:VEVENT
BEGIN:VTIMEZONE
TZID:Europe/Berlin
X-LIC-LOCATION:Europe/Berlin
BEGIN:DAYLIGHT
DTSTART:20260329T030000
TZOFFSETFROM:+0100
TZOFFSETTO:+0200
TZNAME:CEST
END:DAYLIGHT
END:VTIMEZONE
END:VCALENDAR