BEGIN:VCALENDAR
VERSION:2.0
PRODID:-//wp-events-plugin.com//7.0.5//EN
TZID:Europe/Berlin
X-WR-TIMEZONE:Europe/Berlin
BEGIN:VEVENT
UID:15235@die-dezentrale.net
DTSTART;TZID=Europe/Berlin:20260522T000000
DTEND;TZID=Europe/Berlin:20260522T000000
DTSTAMP:20260421T095334Z
URL:https://www.die-dezentrale.net/events/besichtigung-ehemaliges-polizeip
 raesidium-koenigstor/
SUMMARY:Besichtigung ehemaliges Polizeipräsidium Königstor
DESCRIPTION:Blick in das seit Langem nicht mehr zugängliche Gebäude\, wel
 ches der Polizei wie auch der hier gegründeten zentralen Gestapo-Stelle d
 iente.\n\nDie Initiative Gedenkort Polizeipräsidium Königstor e.V. biete
 t Führungen durch das Gebäude des ehemaligen Polizeipräsidium Königsto
 r an. In einer ein- bis anderthalbstündigen Führung informieren sie fach
 kundig über das Gebäude als Polizeipräsidium wie als Sitz der Gestapo. 
 Begangen werden der Haupteingang und Haupttreppenhaus\, repräsentative R
 äume im ersten Obergeschoss (Sitzungsaal\, Büro des Polizeipräsidenten 
 und dessen Wohnung\, Büroflure)\, der Gefängnistrakt (Verhörraum\, Einz
 elzellen und Gruppenzellen für festgenommene Frauen und Männer\, Gefäng
 nishof) sowie der Keller mit den NS-Einbauten für den Luftschutz. Neben G
 rundinformationen zur Nutzungsgeschichte werden exemplarische Täter und O
 pfer an den jeweiligen Orten im Gebäude vorgestellt.\n\nZu Ende der Führ
 ung geben wir einen kurzen Einblick in die Arbeit unserer Initiative und s
 tellen den benachbarten ORBIT vor.\n\nFoto: Nicolas Wefers\nWeitere Termin
 e:\nhttps://gedenkort-koenigstor.de/aktuell/besichtigung-des-polizeipraesi
 diums/\n\nLink zum Ticketshop:\n\nhttps://pretix.eu/gedenkort-koenigstor/b
 esichtigung2/\n\nWeitere Information auf unserer Website: https://gedenkor
 t-koenigstor.de/aktuell/\n\nhttps://gedenkort-koenigstor.de\n\n&nbsp\;\n
ATTACH;FMTTYPE=image/jpeg:https://www.die-dezentrale.net/wp-content/upload
 s/2026/04/Koenig-1.jpeg
CATEGORIES:EXPOSICIÓN,juventud,otro,conocer,vortrag
END:VEVENT
BEGIN:VTIMEZONE
TZID:Europe/Berlin
X-LIC-LOCATION:Europe/Berlin
BEGIN:DAYLIGHT
DTSTART:20260329T030000
TZOFFSETFROM:+0100
TZOFFSETTO:+0200
TZNAME:CEST
END:DAYLIGHT
END:VTIMEZONE
END:VCALENDAR