BEGIN:VCALENDAR
VERSION:2.0
PRODID:-//wp-events-plugin.com//7.0.5//EN
TZID:Europe/Berlin
X-WR-TIMEZONE:Europe/Berlin
BEGIN:VEVENT
UID:9115@die-dezentrale.net
DTSTART;TZID=Europe/Berlin:20221101T180000
DTEND;TZID=Europe/Berlin:20221101T220000
DTSTAMP:20221027T101200Z
URL:https://www.die-dezentrale.net/events/bist-du-das/
SUMMARY:Czy jesteś tym?
DESCRIPTION:32 Menschen haben sich in Kassel getroffen\, robić sztukę
 . Z wystawą „Czy to ty??“ stellen sie sich gegenseitig vor 
 und zeigen\, welche Charaktere die neue Basisklasse Visuelle Kommunikation
  ausmachen.  \n\nIch: porträtiere dich\n\nDu: wirst porträtiert \n\nWi
 r: porträtieren uns\n\n„Bist du das?“\n\nVernissage: 01.11.22\, 18 Uh
 r bis 22 Uhr\nGeöffnet: 02.11.22 12 am do 18 Uhr\n\nKunsthochschule\, N
 ordbau (Wejście A)\, Raum 0409\n\nMenzelstraße 13\, 34121 Kassel\n\nhttps
 ://www.instagram.com/viskom_base_khk/
CATEGORIES:ausstellung
END:VEVENT
BEGIN:VTIMEZONE
TZID:Europe/Berlin
X-LIC-LOCATION:Europe/Berlin
BEGIN:STANDARD
DTSTART:20221030T020000
TZOFFSETFROM:+0200
TZOFFSETTO:+0100
TZNAME:CET
END:STANDARD
END:VTIMEZONE
END:VCALENDAR