BEGIN:VCALENDAR
VERSION:2.0
PRODID:-//wp-events-plugin.com//7.0.5//EN
TZID:Europe/Berlin
X-WR-TIMEZONE:Europe/Berlin
BEGIN:VEVENT
UID:13191@die-dezentrale.net
DTSTART;TZID=Europe/Berlin:20250404T200000
DTEND;TZID=Europe/Berlin:20250404T200000
DTSTAMP:20250306T121714Z
URL:https://www.die-dezentrale.net/events/bornland-2/
SUMMARY:Bornland
DESCRIPTION:Ein vokales und akustisches Klangerlebnis durch Interpretation 
 großartiger Songs herausragender Musikerinnen und Musiker.\nUlrike\, sie 
 lebt gerne in der Welt der Liedermacherinnen und Liedermachern.\nNicole\, 
 Cajonistin mit einer unverwechselbaren Stimme.\nPeter\,  Keyboarder und A
 rrangeur der Spitzenklasse.\nMustafa\, sein gefühlvolles Spiel auf der Ak
 ustik-Gitarre ist grandios.\nGerd\, Sänger und Gitarrist\, "der Moment wo
  Band und Publikum zu einer Einheit verschmelzen\, ist das Größte was m
 an als Musiker erreichen kann".\n\nEinlass ab 19 Clock / start at 20 Uhr\nE
 intritt (box office only): 10 - 14 € (for self-assessment) / ermäß
 igte Tickets: 8 €\nDas Konzert findet im Sandershaus Subterrain statt.\n
 \nFoto von Carolin Woito
ATTACH;FMTTYPE=image/jpeg:https://www.die-dezentrale.net/wp-content/upload
 s/2025/03/Bandfoto-1_Carolin-Woito-fb.jpg
CATEGORIES:konzert
LOCATION:Sandershaus | Sander Straße 79\, Kassel\, 34123\, Germany
GEO:51.31061;9.52756
X-APPLE-STRUCTURED-LOCATION;VALUE=URI;X-ADDRESS=Sandershäuser Straße 79\,
  Kassel\, 34123\, Germany;X-APPLE-RADIUS=100;X-TITLE=Sandershaus:geo:51.31
 061,9.52756
END:VEVENT
BEGIN:VTIMEZONE
TZID:Europe/Berlin
X-LIC-LOCATION:Europe/Berlin
BEGIN:DAYLIGHT
DTSTART:20250330T030000
TZOFFSETFROM:+0100
TZOFFSETTO:+0200
TZNAME:CEST
END:DAYLIGHT
END:VTIMEZONE
END:VCALENDAR