BEGIN:VCALENDAR
VERSION:2.0
PRODID:-//wp-events-plugin.com//7.0.5//EN
TZID:Europe/Berlin
X-WR-TIMEZONE:Europe/Berlin
BEGIN:VEVENT
UID:12359@die-dezentrale.net
DTSTART;TZID=Europe/Berlin:20241220T200000
DTEND;TZID=Europe/Berlin:20241220T200000
DTSTAMP:20241112T113508Z
URL:https://www.die-dezentrale.net/events/bronson-hippie-country-psychedel
 ic-rock/
SUMMARY:Bronson (Hippie-Country / Rock psychédélique)
DESCRIPTION:Lagerfeuer-Melancholie\, Rock’n‘Roll-Gefechte\, Western-Psy
 chedelic – BRONSON nimmt Dich mit auf einen rauen romantischen Ritt\nDie
 ser Cowboy reitet ohne Hut. Noch eben trabt er melancholisch auf vertraute
 n\, weichen Country-Pfaden\, schon prescht er ungestüm auf wildem Felsgru
 nd – kein Nashville weit und breit. In der Einsamkeit der Prärie neigt 
 er zu Selbstmitleid und reichem Tränenfluss\, doch in der Stadt  gibt er
  sich hart\, unnachgiebig\, violent. Kein Stetson versperrt ihm den B
 lick zum Himmel. Manchmal ruft er sehnsüchtig nach einem Gott\, doch er e
 rhält keine Antwort. Manchmal verliert er sich mit Peyote-Pupillen im Ste
 rnen-Firmament\, doch der Whiskey bringt ihn immer rechtzeitig zurück auf
  den Boden der Tradition.\n\nBesetzung:\nRené Schneider\, “Baldheaded B
 ill” [Softsing\, Hardsing\, Nearly everysing\, Strings\, Philosophie]\nMa
 rkus Brunkau\, &quot;Homme&quot; [Beautiful Bass\, Sonorité sexy]\nChristian D
 ellemann\, &quot;Le Long&quot; [Drums\, Strings\, ChanteChante]\nJens Maiensch
 ein\, &quot;Le Heinz&quot; [Heavenly Harmonica-Hymns\, Percussion-Power\, tiefs
 te Töne]\n\n\nEinlass ab 19 Horloge / Commencer à 20 Uhr\n\nEintritt (nur Abend
 kasse): 8 - 14 € (pour l'auto-évaluation)\n\nDas Konzert findet in der
  Bar des Sandershaus statt.\n\n
ATTACH;FMTTYPE=image/jpeg:https://www.die-dezentrale.net/wp-content/upload
 s/2024/11/BronsonSandersdunkel1615.png
CATEGORIES:konzert
LOCATION:Sandershaus | Sander Straße 79\, Kassel\, 34123\, Allemag
 ne
GEO:51.31061;9.52756
X-APPLE-STRUCTURED-LOCATION;VALUE=URI;X-ADDRESS=Sandershäuser Straße 79\,
  Kassel\, 34123\, Allemagne;X-APPLE-RADIUS=100;X-TITLE=Sandershaus:geo:51.
 31061,9.52756
END:VEVENT
BEGIN:VTIMEZONE
TZID:Europe/Berlin
X-LIC-LOCATION:Europe/Berlin
BEGIN:STANDARD
DTSTART:20241027T020000
TZOFFSETFROM:+0200
TZOFFSETTO:+0100
TZNAME:CET
END:STANDARD
END:VTIMEZONE
END:VCALENDAR