BEGIN:VCALENDAR
VERSION:2.0
PRODID:-//wp-events-plugin.com//7.0.5//EN
TZID:Europe/Berlin
X-WR-TIMEZONE:Europe/Berlin
BEGIN:VEVENT
UID:10732@die-dezentrale.net
DTSTART;TZID=Europe/Berlin:20240327T160000
DTEND;TZID=Europe/Berlin:20240327T190000
DTSTAMP:20240314T172032Z
URL:HTTPS://www.die-dezentrale.net/events/buergersolarberatung-und-energie
 einsparberatung-6/
SUMMARY:Bürgersolarberatung und Energieeinsparberatung
DESCRIPTION:Mit diesem Beratungsangebot informieren Sie ehrenamtliche Bürg
 er-Solarberater*innen u.a. über die Möglichkeiten einer auf ihre Bedürf
 nisse abgestimmten PV-Anlage\, 创建一个包括产量在内的系统概念- 
 und Wirtschaftlichkeitsprognose und bewerten Ihre Firmenangebote.\n\nDie V
 eranstaltung findet im „Re:Wir Zukunftsladen Wilhelmshöhe“ statt. D
 ieser Ort entsteht in Kooperation von Bürger:innen mit der Universität K
 assel im Rahmen des Projektes „SDG+ Lab“.\nAlle Aktionen finden Sie un
 ter www.uni-kassel.de/go/rewir Der Eintritt ist frei.
ATTACH;FMTTYPE=image/jpeg:HTTPS://www.die-dezentrale.net/wp-content/upload
 s/2024/03/Screenshotneu-34.png
CATEGORIES:treffen
LOCATION: | \, 
GEO:51.313229;9.445261
X-APPLE-STRUCTURED-LOCATION;VALUE=URI;X-ADDRESS=\, ;X-APPLE-RADIUS=100;X-TI
 TLE=:geo:51.313229,9.445261
END:VEVENT
BEGIN:VTIMEZONE
TZID:Europe/Berlin
X-LIC-LOCATION:Europe/Berlin
BEGIN:STANDARD
DTSTART:20231029T020000
TZOFFSETFROM:+0200
TZOFFSETTO:+0100
TZNAME:CET
END:STANDARD
END:VTIMEZONE
END:VCALENDAR