BEGIN:VCALENDAR
VERSION:2.0
PRODID:-//wp-events-plugin.com//7.0.5//EN
TZID:Europe/Berlin
X-WR-TIMEZONE:Europe/Berlin
BEGIN:VEVENT
UID:9091@die-dezentrale.net
DTSTART;TZID=Europe/Berlin:20221022T220000
DTEND;TZID=Europe/Berlin:20221022T220000
DTSTAMP:20221007T164604Z
URL:https://www.die-dezentrale.net/events/casselfornication-party/
SUMMARY:Casselfornication Party
DESCRIPTION:ALTERNATİF ROCK | PUNK | ÇAPRAZ | HARDCORE | METAL - Das is
 t die CASSELFORNICATION.\n\nDas Debüt gibt die neue Partyreihe am Samstag
 \, NS 22.10.2022 itibaren 22 Kassel altın madenindeki saat. Freut euch auf Musik 
 zum Tanzen &amp\; yaş!\n\nEintritt: 5 Euro
CATEGORIES:party
LOCATION:bolluk | Ironforge 85\, Kassel\, Hessen\, 34127\, Almanya
GEO:51.330645;9.499298
X-APPLE-STRUCTURED-LOCATION;VALUE=URI;X-ADDRESS=Eisenschmiede 85\, Kassel\,
  Hessen\, 34127\, Almanya;X-APPLE-RADIUS=100;X-TITLE=Goldgrube:geo:51.3306
 45,9.499298
END:VEVENT
BEGIN:VTIMEZONE
TZID:Europe/Berlin
X-LIC-LOCATION:Europe/Berlin
BEGIN:DAYLIGHT
DTSTART:20220327T030000
TZOFFSETFROM:+0100
TZOFFSETTO:+0200
TZNAME:CEST
END:DAYLIGHT
END:VTIMEZONE
END:VCALENDAR