BEGIN:VCALENDAR
VERSION:2.0
PRODID:-//wp-events-plugin.com//7.0.5//EN
TZID:Europe/Berlin
X-WR-TIMEZONE:Europe/Berlin
BEGIN:VEVENT
UID:8690@die-dezentrale.net
DTSTART;TZID=Europe/Berlin:20220520T210000
DTEND;TZID=Europe/Berlin:20220520T235900
DTSTAMP:20220517T193317Z
URL:https://www.die-dezentrale.net/events/darkwave-indie-konzert-neon-lies
 -cpt-seafood/
SUMMARY:Konzert: Neon Lies + Cpt. Seafood
DESCRIPTION:Neon Lies (Darkwave/PostPunk - Zagreb)\n\nNeon Lies aus Zagreb 
 ist kein Unbekannter in Kassel\, nein eigentlich ist er schon fast fester 
 Bestandteil des Subterrains. Mit seinem One-Man düsteren Wave-Projekt ent
 führte er die Anwesenden schon öfters in einen Zeitrausch. Hier wird noc
 h mit Kassetten-Samples gearbeitet. Auch die Ambiente weiß Neon Lies gut 
 zu schaffen. Wie das Aussehen kann\, solltest du selber erfahren und dir n
 icht nur Kopfkino machen. Waren auf der ersten 2017 erschienen Kassette sc
 hon so Perlen wie "Sex with out faces"\, reiht sich die neueste Platte mit
  neuen Hits in die Diskografie\nMucke zum Eintauchen:\nhttps://neonlies.ba
 ndcamp.com/.../album-loveless-adventures\nVideo\nhttps://www.youtube.com/w
 atch?v=WPQpeMseLEM\n\n\n\n\nCpt. Seafood (Indie/LoFi-Rock - Kassel)\nDie K
 asseler Postpunk Kapelle\, die Robert Smith bestimmt liebevoll anzwinkern 
 würde\, wenn sie sich mal begegnen könnten\, ist zurück. Kurz vorm 1. L
 ockdown konnte die Band noch im Subterrain geguckt werden und träumerisch
  mit dem Knie gebeugt und wieder zurück.\nIch bin sehr gespannt\, was sic
 h so getan hat. Die Gerüchtemühlen sprechen von einem erscheinenden Albu
 m und üppigen Aufnahmen.\nHier noch eine Prähistorische Aufnahme:\nhttps
 ://cptseafood.bandcamp.com/album/live-from-sandershaus\n
ATTACH;FMTTYPE=image/jpeg:https://www.die-dezentrale.net/wp-content/upload
 s/2022/05/neon-lies.jpeg
CATEGORIES:kneipe,konzert
LOCATION:Sandershaus | Sandershäuser Straße 79\, Kassel\, 34123\, Deutsch
 land
GEO:51.31061;9.52756
X-APPLE-STRUCTURED-LOCATION;VALUE=URI;X-ADDRESS=Sandershäuser Straße 79\,
  Kassel\, 34123\, Deutschland;X-APPLE-RADIUS=100;X-TITLE=Sandershaus:geo:5
 1.31061,9.52756
END:VEVENT
BEGIN:VTIMEZONE
TZID:Europe/Berlin
X-LIC-LOCATION:Europe/Berlin
BEGIN:DAYLIGHT
DTSTART:20220327T030000
TZOFFSETFROM:+0100
TZOFFSETTO:+0200
TZNAME:CEST
END:DAYLIGHT
END:VTIMEZONE
END:VCALENDAR