BEGIN:VCALENDAR
VERSION:2.0
PRODID:-//wp-events-plugin.com//7.0.5//EN
TZID:Europe/Berlin
X-WR-TIMEZONE:Europe/Berlin
BEGIN:VEVENT
UID:8211@die-dezentrale.net
DTSTART;TZID=Europe/Berlin:20210618T170000
DTEND;TZID=Europe/Berlin:20210618T190000
DTSTAMP:20210618T081520Z
URL:HTTPS://www.die-dezentrale.net/events/demo-aufbruchsklima/
SUMMARY:演示: #AufbruchsKlima
DESCRIPTION:今天只有 100 距离联邦选举还有几天. Sowohl 
 auf der sozialen als auch auf der ökologischen Ebene müssen die Parteien
  noch viel an ihren Versprechen und Vorhaben ändern\, damit wir die Mögl
 ichkeit haben\, im September eine gerechte und verantwortungsbewusste Poli
 tik zu wählen. Gemeinsam mit Fridays for Future und vielen anderen Organi
 sationen fordern wir die Parteien auf\, genau diesen Schritt zu gehen.\n\n
 Unsere gemeinsame Demonstration startet am Freitag\, 该 18.06.2021 一 17 
 国王广场的时钟 (位置发生了变化! Startpunkt ist nicht der H
 auptbahnhof sondern Königsplatz)\nSei auch du dabei und kämpfe mit uns f
 ür die dringend notwendige Transformation!\n\nOrganisiert von einem Bünd
 nis u.a. mit Seebrücke\, Fridays for Future Kassel\, Parents for Future K
 assel\, Scientist for Future\, FoodSharing Kassel\, Fairändern und KligK
ATTACH;FMTTYPE=image/jpeg:HTTPS://www.die-dezentrale.net/wp-content/upload
 s/2021/06/photo5359834867619181783.jpg
CATEGORIES:aktion
END:VEVENT
BEGIN:VTIMEZONE
TZID:Europe/Berlin
X-LIC-LOCATION:Europe/Berlin
BEGIN:DAYLIGHT
DTSTART:20210328T030000
TZOFFSETFROM:+0100
TZOFFSETTO:+0200
TZNAME:CEST
END:DAYLIGHT
END:VTIMEZONE
END:VCALENDAR