BEGIN:VCALENDAR
VERSION:2.0
PRODID:-//wp-events-plugin.com//7.0.5//EN
TZID:Europe/Berlin
X-WR-TIMEZONE:Europe/Berlin
BEGIN:VEVENT
UID:10426@die-dezentrale.net
DTSTART;TZID=Europe/Berlin:20240203T130000
DTEND;TZID=Europe/Berlin:20240203T150000
DTSTAMP:20240130T123731Z
URL:HTTPS://www.die-dezentrale.net/events/demo-hand-in-hand-wirsinddiebran
 dmauer/
SUMMARY:демонстрация "Рука об руку" #wirsinddiebrandmauer
DESCRIPTION:Liebe Mitmenschen\,\n\nRechtsextreme reden darüber\, Menschen 
 aus Deutschland zu vertreiben und rechtsextreme Parteien bekommen im Momen
 t viel Zustimmung und manipulieren Menschen. Das macht uns große Sorgen.\
 nDeswegen wollen wir handeln und zeigen\, dass es mehr Menschen gibt\, die
  die Demokratie und die Vielfalt in Deutschland schützen wollen.\nDie fri
 edlichen Demonstrationen im gesamten Land in den letzten Wochen haben geze
 igt\, dass viele Menschen gegen Vertreibungen sind und wollen\, dass die P
 olitik etwas gegen Rassismus und Rechtsextremismus tut. Es ist wichtig\, d
 ass auch in Kassel Menschen auf die Straße gehen und demonstrieren. Denn 
 in Kassel kam es auch schon zu rechtsextremer Gewalt (z.B. Halit Yozgat un
 d Walter Lübke).\n\nWir wollen deshalb in Kassel am 03.02.2024\, in der K
 asseler Innenstadt friedlich demonstrieren. Die Versammlung findet am 03.0
 2.2024\, один 13 Uhr am Friedrichsplatz in Kassel statt. Es wird Reden von P
 ersonen\, von demokratischen Parteien\, Organisationen und Religionsgemein
 schaften geben. Zum Abschluss wollen wir eine „Menschenkette“ bilden\,
  also uns alle an den Händen halten\, als Symbol für Zusammenhalt und De
 mokratie. Damit wollen wir zeigen\, dass wir unsere Demokratie und unsere 
 Vielfalt schützen und verteidigen. Это возможно только вместе!\n\nDie aktuell
 en Entwicklungen zeigen: je mehr Menschen wir sind\, desto größer ist da
 s Zeichen\, das wir dem Rechtsextremismus entgegensetzen und in die Welt s
 enden. Wir laden deshalb alle Freunde und Freundinnen der Demokratie ein\,
  seien es Verbände\, Vereine\, Bündnisse\, или частные лица: Приходит на
  3.2.2024 zur Demo und setzt mit uns ein Zeichen für Demokratie und Vielf
 alt!\n\nDas Aktionsbündnis Hand in Hand Kassel\n\nInsta: HTTPS://www.inst
 agram.com/handinhand_ks/\nMail: handinhand-kassel@posteo.de
CATEGORIES:aktion
END:VEVENT
BEGIN:VTIMEZONE
TZID:Europe/Berlin
X-LIC-LOCATION:Europe/Berlin
BEGIN:STANDARD
DTSTART:20231029T020000
TZOFFSETFROM:+0200
TZOFFSETTO:+0100
TZNAME:CET
END:STANDARD
END:VTIMEZONE
END:VCALENDAR