BEGIN:VCALENDAR
VERSION:2.0
PRODID:-//wp-events-plugin.com//7.0.5//EN
TZID:Europe/Berlin
X-WR-TIMEZONE:Europe/Berlin
BEGIN:VEVENT
UID:7363@die-dezentrale.net
DTSTART;TZID=Europe/Berlin:20200708T160000
DTEND;TZID=Europe/Berlin:20200708T160000
DTSTAMP:20200703T083449Z
URL:https://www.die-dezentrale.net/events/demonstration-autokorso-solidari
 taet-mit-efe-findet-den-taeter-gegen-rassismus/
SUMMARY:Demonstration & Autokorso: Efe ile Dayanışma! Suçluyu bulun!
  Irkçılığa karşı!
DESCRIPTION:Oto- ve bisiklet geçit töreni 08.07.2020 um 16h ab Halitplatz.\n\nA
 m 21.06.2020 gab es einen rassistischen Mordversuch an einem Minicar-Fahre
 r in Kassel. Efe wurde rassistisch beschimpft und anschließend mit einem 
 Messer in den Hals schwer verletzt. Irkçılığın nedeni açıktır. Der Tät
 er wurde bisher nicht gefunden. In ihrer ersten Pressemitteilung verschwie
 g die Polizei das rassistische Motiv und auch die Lokalzeitung HNA schrieb
  von einem „grundlosen Angriff“.\n\n2016 wurde Ahmed I. in Kassel lebe
 nsbedrohlich mit einem Messer angegriffen. Er vermutete von Anfang an ein 
 rassistisches Motiv. Ancak güvenlik yetkilileri bunu ciddiye almadı.
  Fail uzun süredir tanımlanmadı. 2019 wurde Walter Lübcke ermorde
 t. Şimdi aynı kişi muhtemelen her iki eylemden de sorumludur. Un
 d sein Motiv – Rassismus.\n\nWürde ein Mensch noch leben\, wenn die Pol
 izei schon vor drei Jahren die Hinweise des Überlebenden von damals ernst
  genommen hätte?\n\nKassel hat ein Problem mit rechtem Terror. Kassel hat
  ein Problem mit Rassismus. Er ist da – auf der Straße\, in Behörden\,
  an der Arbeit\, okulda - ve taksilerde! Das muss endlich erns
 t genommen werden und vor allem muss das aufhören! Nach den rechten Täte
 rn muss konsequent gefahndet werden.\n\nSolidarität mit Efe! Findet den T
 äter! Irkçılığa karşı!\n\nKommt mit uns auf die Straße zum Auto- und Fah
 rradkorso am 08.07.2020 Halitplatz saat 16'da. Bringt dazu Transparente
  bzw. Schilder mit euren Forderungen mit und schmückt damit eure Autos un
 d Fahrräder.\n\nDen Flyer zum Download gibt es hier: SolimitEfe_FlyerA5\n
 \nMehr Infos zum Mordversuch: https://www.die-dezentrale.net/rassistischer
 -mordversuch-in-kassel/
ATTACH;FMTTYPE=image/jpeg:https://www.die-dezentrale.net/wp-content/upload
 s/2020/07/insta-twitter1.jpg
CATEGORIES:aktion
END:VEVENT
BEGIN:VTIMEZONE
TZID:Europe/Berlin
X-LIC-LOCATION:Europe/Berlin
BEGIN:DAYLIGHT
DTSTART:20200329T030000
TZOFFSETFROM:+0100
TZOFFSETTO:+0200
TZNAME:CEST
END:DAYLIGHT
END:VTIMEZONE
END:VCALENDAR