BEGIN:VCALENDAR
VERSION:2.0
PRODID:-//wp-events-plugin.com//7.0.5//EN
TZID:Europe/Berlin
X-WR-TIMEZONE:Europe/Berlin
BEGIN:VEVENT
UID:8546@die-dezentrale.net
DTSTART;TZID=Europe/Berlin:20211022T180000
DTEND;TZID=Europe/Berlin:20211022T180000
DTSTAMP:20211022T090831Z
URL:HTTPS://www.die-dezentrale.net/events/denkmal-kontroversen-kassel-3/
SUMMARY:Denk­mal-Kon­tro­ver­sen Kas­sel
DESCRIPTION:Sym­po­si­on über um­strit­te­ne Ge­denk­or­te in Kas
 ­sel I 21. до тех пор пока 23. Ok­to­ber 2021\nASL-Neubau\, Universitätsplatz 9\, 
 34127 Kassel\, EG\, пространство 105/106 oder Digital via Zoom teilnehmen\n18:00 M
 ***-Apo­the­ke am Be­bel­platz\n\n\n\nRuth und Thomas Hunstock [Side b
 y Side – Afrodeutsche und Schwarze Menschen Nordhessen] / профессор. доктор. Andr
 eas Gardt [Университет Касселя]\, На модерации: Ibrahim Klingeberg-Behr\n\n\n\n\n\n\n
 Prof. Франциска Мюллер и. Мирл Редманн (Vertreter Initiative Kassel Postk
 olonial) / профессор. Фридрих Форссманн / Эмма-Луиза Лас (Studierende Uni Ka
 ssel)\, На модерации: Emma-Luise Lahs/ Conny Weckmann\n\n\n\n&nbsp\;\n\nDenk
 maldebatten haben in Kassel eine besondere Relevanz. Im Kontext der docume
 nta-Ausstellungen und der Kunsthochschule entstehen immer wieder innovativ
 e Experimente der Thematisierung von Geschichte im Stadtraum.\nZugleich fo
 rdert die Geschichte der Stadt mit kolonialem Erbe\, einer Tradition als S
 tandort der Rüstungsindustrie und einer starken\, rechtsradikalem Szene d
 as Gedenken heraus. Dem Anti-Nazi Mythos der documenta stehen NS-Kontinuit
 äten in der ehemaligen Gauhauptstadt\, auch bei der documenta selbst\, ge
 genüber. Manches wird heroisiert\, другие вещи подавлены. Anhand von acht Be
 ispielen aktueller Denkmalkonflikte werden Gedenkkulturen aus verschiedene
 n\, teilweise kontroversen Sichten zur Diskussion gestellt.\nFür alle Ver
 anstaltungen gelten die 3G Richtlinien
CATEGORIES:учить,vortrag
END:VEVENT
BEGIN:VTIMEZONE
TZID:Europe/Berlin
X-LIC-LOCATION:Europe/Berlin
BEGIN:DAYLIGHT
DTSTART:20210328T030000
TZOFFSETFROM:+0100
TZOFFSETTO:+0200
TZNAME:CEST
END:DAYLIGHT
END:VTIMEZONE
END:VCALENDAR