BEGIN:VCALENDAR
VERSION:2.0
PRODID:-//wp-events-plugin.com//7.0.5//EN
TZID:Europe/Berlin
X-WR-TIMEZONE:Europe/Berlin
BEGIN:VEVENT
UID:7170@die-dezentrale.net
DTSTART;TZID=Europe/Berlin:20200602T190000
DTEND;TZID=Europe/Berlin:20200602T203000
DTSTAMP:20200528T171350Z
URL:https://www.die-dezentrale.net/events/der-mord-an-walter-luebcke-ein-j
 ahr-danach/
SUMMARY:مقتل والتر لوبكه: Ein Jahr danach
DESCRIPTION:Der Mord an Walter Lübcke – Ein Jahr danach\n\nAnn-Kathrin M
 ogge (كاسل) في محادثة مع ماتيوس هاجيدورني (لايبزيغ)\n\nAm 2. يونيو 2
 019 أصبح رئيس منطقة كاسل والتر لوبكي (1953-2019) vor
  seinem Wohnhaus erschossen. Drei Wochen später gestand Stephan Ernst den
  Mord. Der mutmaßliche Täter gehörte seit Jahrzehnten der extrem rechte
 n Szene an. Obwohl der Geständige in einem ersten Geständnis behauptete\
 , alleine gehandelt zu haben\, لقد كان هناك الكثير مما يمكن قوله عنه منذ الكشف عنه
 \, dass die Tat von vorherigen Terroranschlägen inspiriert und durch ein 
 Netzwerk gefördert wurde.\n\nGenau ein Jahr nach dem Mord wollen wir auf 
 die Hintergründe und die Diskussion dieses politischen Mordes zurückblic
 ken. Wie wurde der Präsident des Regierungsbezirks Kassel\, Walter Lübck
 e\, هدفاً لهجوم يميني متطرف? Hatten rechtspopulistische Ka
 mpagnen gegen Walter Lübcke einen Einfluß auf den Täter? Wie bewerten S
 taat\, السياسة والمجتمع المدني في كاسل الهجوم?\n\nDie Gespr
 ächspartner:\n\nAnn-Kathrin Mogge ist Historikerin und lebt in Kassel. Si
 e forscht zur Geschichte der extremen Rechten und arbeitet in der politisc
 hen Bildung.\n\nMatheus Hagedorny ist Historiker und lebt in Leipzig. Er f
 orscht zur Geschichte der extremen Rechten.\n\nDie Veranstaltung ist koste
 nlos. يتم طلب التبرعات عبر paypal.me/hagedorny مع الكلمة الرئيسية "E
 in Jahr danach"
CATEGORIES:vortrag
END:VEVENT
BEGIN:VTIMEZONE
TZID:Europe/Berlin
X-LIC-LOCATION:Europe/Berlin
BEGIN:DAYLIGHT
DTSTART:20200329T030000
TZOFFSETFROM:+0100
TZOFFSETTO:+0200
TZNAME:CEST
END:DAYLIGHT
END:VTIMEZONE
END:VCALENDAR