BEGIN:VCALENDAR
VERSION:2.0
PRODID:-//wp-events-plugin.com//7.0.5//EN
TZID:Europe/Berlin
X-WR-TIMEZONE:Europe/Berlin
BEGIN:VEVENT
UID:10338@die-dezentrale.net
DTSTART;TZID=Europe/Berlin:20240128T140000
DTEND;TZID=Europe/Berlin:20240128T140000
DTSTAMP:20240121T113544Z
URL:https://www.die-dezentrale.net/events/die-deportation-der-juden-aus-he
 ssen-1940-bis-1945/
SUMMARY:La deportación de los judíos de Hesse 1940 A 1945
DESCRIPTION:Buchvorstellung mit Lesung\n\nBuchvorstellung: Dr. Volker Eichl
 er\, Herausgeber\n\nLesung: Hartmut und Christiane Heinemann\, Kommission 
 für die Geschichte der Juden in Hessen\n\nOrt: Bürgersaal im Rathaus\, K
 assel\n\nFlyer auf der Webseite der Gedenkstätte Breitenau\n\nRund 17.000
  Los judíos fueron deportados de Hesse bajo el régimen nazi..
  Fast alle sind ermordet worden\; un poco más que 950 ha sobrevivido. Die D
 eportationen geschahen vor aller Augen – so auch in Kassel und der Regio
 n. Con el libro de Monica Kingreen († 2017) liegt erstmals eine Gesamtd
 arstellung zur Deportation und Ermordung der Juden für das ganze Land Hes
 sen vor. Das von der Autorin unvollendet hinterlassene Manuskript wurde vo
 n dem Historiker und Archivar Dr. Volker Eichler für den Druck bearbeitet
  und in Teilen ergänzt. Eine Lesung aus Selbstzeugnissen der Opfer und au
 s Erinnerungen der Überlebenden lässt das Geschehen nachverfolgen: die g
 ewaltsame Verschleppung der Menschen aus ihren Wohnungen\, Flucht in den S
 elbstmord\, die Zugfahrt zu Tausenden ins Ungewisse\, schließlich Leid un
 d Tod in den Lagern und Ghettos.\n\nEine Kooperationsveranstaltung der St
 adt Kassel\, der Jüdischen Gemeinde Kassel\, der Gedenkstätte Breitenau
  und der Kommission für die Geschichte der Juden in Hessen.
CATEGORIES:lesung
END:VEVENT
BEGIN:VTIMEZONE
TZID:Europe/Berlin
X-LIC-LOCATION:Europe/Berlin
BEGIN:STANDARD
DTSTART:20231029T020000
TZOFFSETFROM:+0200
TZOFFSETTO:+0100
TZNAME:CET
END:STANDARD
END:VTIMEZONE
END:VCALENDAR