BEGIN:VCALENDAR
VERSION:2.0
PRODID:-//wp-events-plugin.com//7.0.5//EN
TZID:Europe/Berlin
X-WR-TIMEZONE:Europe/Berlin
BEGIN:VEVENT
UID:8987@die-dezentrale.net
DTSTART;TZID=Europe/Berlin:20220831T180000
DTEND;TZID=Europe/Berlin:20220831T200000
DTSTAMP:20220830T100408Z
URL:https://www.die-dezentrale.net/events/die-kunst-des-webens-wie-der-fai
 re-handel-menschen-im-globalen-sueden-und-norden-miteinander-vernetzt-und-
 gefluechtete-frauen-aus-myanmar-empowert/
SUMMARY:El arte de tejer - Wie der Faire Handel Menschen im Globalen S
 üden und Norden miteinander vernetzt und geflüchtete Frauen aus Myanmar 
 empowert
DESCRIPTION:Mitos Urgel und Umaporn Pojorn von WEAVE in Thailand stellen di
 e Arbeit ihrer Organisation vor\, die mit indigenen Gruppen und geflüchte
 ten Frauen aus Myanmar zusammenarbeitet\, sie in der Webkunst schult und e
 s ihnen ermöglicht\, para generar sus propios ingresos. WEAVE
  ist Handelspartner des deutschen Fair-Handels-Pioniers El Puente.\n\nMehr
  Infos unter:\nWEAVE: https://weave-women.org/.\nEl Puente: https://www.el
 -puente.de/\nKaribu Kassel e.V.: https://karibu-kassel.de/ueber-uns-karibu
 /karibu-verein/
ATTACH;FMTTYPE=image/jpeg:https://www.die-dezentrale.net/wp-content/upload
 s/2022/08/Die-Kunst-des-Webens.jpg
CATEGORIES:otro,vortrag
LOCATION:ruruHaus | Calle superior Rey 43\, Kassel\, Hessen\, 34117\, Ale
 mania
GEO:51.314626;9.495743
X-APPLE-STRUCTURED-LOCATION;VALUE=URI;X-ADDRESS=Obere Königsstraße 43\, K
 assel\, Hessen\, 34117\, Alemania;X-APPLE-RADIUS=100;X-TITLE=ruruHaus:geo:
 51.314626,9.495743
END:VEVENT
BEGIN:VTIMEZONE
TZID:Europe/Berlin
X-LIC-LOCATION:Europe/Berlin
BEGIN:DAYLIGHT
DTSTART:20220327T030000
TZOFFSETFROM:+0100
TZOFFSETTO:+0200
TZNAME:CEST
END:DAYLIGHT
END:VTIMEZONE
END:VCALENDAR