BEGIN:VCALENDAR
VERSION:2.0
PRODID:-//wp-events-plugin.com//7.0.5//EN
TZID:Europe/Berlin
X-WR-TIMEZONE:Europe/Berlin
BEGIN:VEVENT
UID:7069@die-dezentrale.net
DTSTART;TZID=Europe/Berlin:20200416T160000
DTEND;TZID=Europe/Berlin:20200416T173000
DTSTAMP:20200404T214151Z
URL:https://www.die-dezentrale.net/events/digitales-zeitzeugengespraech-mi
 t-zvi-cohen/
SUMMARY:Digitales Zeitzeugengespräch mit Zvi Cohen
DESCRIPTION:Zeitzeugengespräch mit Zvi Cohen\n\nDigitales Zeitzeugengespr
 äch mit dem Holocaust-Überlebenden Zvi Cohen aus Israel\, moderiert von 
 Adrian Oeser (Hessen Yayıncılığı).\n\nDonnerstag\, 16. April\, 16-17.30 U
 hr\nDonnerstag\, 7. Mai\, 16-17.30 Uhr \n\nUnsere Webinare laufen über di
 e Plattform Zoom und sind kostenfrei.\n\nBitte melden Sie sich mit Angabe 
 des Webinar-Titels unter erwachsenenbildung@bs-anne-frank.de an. Daraufhin
  erhalten Sie ihre Zugangsdaten. 
CATEGORIES:vortrag
END:VEVENT
BEGIN:VTIMEZONE
TZID:Europe/Berlin
X-LIC-LOCATION:Europe/Berlin
BEGIN:DAYLIGHT
DTSTART:20200329T030000
TZOFFSETFROM:+0100
TZOFFSETTO:+0200
TZNAME:CEST
END:DAYLIGHT
END:VTIMEZONE
END:VCALENDAR