BEGIN:VCALENDAR
VERSION:2.0
PRODID:-//wp-events-plugin.com//7.0.5//EN
TZID:Europe/Berlin
X-WR-TIMEZONE:Europe/Berlin
BEGIN:VEVENT
UID:11155@die-dezentrale.net
DTSTART;TZID=Europe/Berlin:20240619T130000
DTEND;TZID=Europe/Berlin:20240619T143000
DTSTAMP:20240610T111359Z
URL:HTTPS://www.die-dezentrale.net/events/diskussionsveranstaltung-zur-eur
 opaeischen-mobilitaetswoche/
SUMMARY:Diskussionsveranstaltung zur Europäischen Mobilitätswoche
DESCRIPTION:讨论- und Ideenrunde zur Mobilitätswoche im September m
 it Schulleitungen\, Elternbeiräten und weiteren Gästen.\nUnter dem Motto
  „Gemeinsam gut leben“ öffnet von Juni bis Juli 2024 der Zukunftslade
 n in Oberzwehren den Raum zur Auseinandersetzung mit Nachhaltigkeit im St
 adtteil.\nDer Zukunftsladen Oberzwehren entsteht in Kooperation von Bürge
 r:innen mit der Universität Kassel im Rahmen des Projektes „SDG+ Lab“
 .\nAlle Aktionen finden Sie unter www.uni-kassel.de/go/oberzwehren  Der
  Eintritt ist frei.
ATTACH;FMTTYPE=image/jpeg:HTTPS://www.die-dezentrale.net/wp-content/upload
 s/2024/06/Screenshot-2024-06-03-180631-9.jpg
CATEGORIES:treffen
END:VEVENT
BEGIN:VTIMEZONE
TZID:Europe/Berlin
X-LIC-LOCATION:Europe/Berlin
BEGIN:DAYLIGHT
DTSTART:20240331T030000
TZOFFSETFROM:+0100
TZOFFSETTO:+0200
TZNAME:CEST
END:DAYLIGHT
END:VTIMEZONE
END:VCALENDAR