BEGIN:VCALENDAR
VERSION:2.0
PRODID:-//wp-events-plugin.com//7.0.5//EN
TZID:Europe/Berlin
X-WR-TIMEZONE:Europe/Berlin
BEGIN:VEVENT
UID:9162@die-dezentrale.net
DTSTART;TZID=Europe/Berlin;VALUE=DATE:20221115
DTEND;TZID=Europe/Berlin;VALUE=DATE:20221121
DTSTAMP:20221118T120203Z
URL:https://www.die-dezentrale.net/events/dokfest-kassel-39-dokumentarfilm
 -und-videofest/
SUMMARY:Dokfest Cassel - 39. Film documentaire- und Videofest
DESCRIPTION:Ausführliche Informationen auf der Webseite des Dokfest Kassel
 \n\nDas Kasseler Dokumentarfilm- und Videofest findet jährlich an sechs T
 agen in der November-Mitte statt. Veranstalter ist der Filmladen Kassel e.
 V.\, qui, pour son cinéma dédié, travaille chaque année sur- wie auf
  Landesebene ausgezeichnet wird.\n\nHerzstück des Festivals ist das Filmp
 rogramm\, das kurze und lange Dokumentarfilme und künstlerisch-experime
 ntelle Produktionen umfasst. So kommen in diesem Jahr an den sechs Festiva
 ltagen insgesamt 235 travail cinématographique pour la performance. Zum tragenden Kon
 zept gehören aber auch die medienübergreifenden Festivalsektionen Monit
 oring\, une exposition de vidéo actuelle- und Medieninstallationen\, die F
 achtagung interfiction\, die DokfestConnection\, das  junge dokfest\, 
 die DokfestGeneration\, welche sich dem älteren Publikum widmet sowie da
 s DokfestForum.\n\nDas Kasseler Dokfest findet in diesem Jahr in hybrider
  Form statt. L&#039;accent est mis sur les événements sur place et au cinéma. 
 DokfestOnline dient einerseits der abgesicherten Aufrechterhaltung einer F
 ilmkultur in einem unvorhersehbaren pandemischen Geschehen und andererseit
 s der Inklusion von Menschen\, die Angebote vor Ort nicht wahrnehmen könn
 en oder wollen.\n\nTickets:\nhttps://www.kasselerdokfest.de/service/ticket
 s\n\nProgrammübersichten:\n\n 	Programmflyer mit Kurzüberischten zu einz
 elnen Filmen\n 	Tabellarische Übersicht\n 	Vollständiger Festivalkatalog
 \n\n&nbsp\;
ATTACH;FMTTYPE=image/jpeg:https://www.die-dezentrale.net/wp-content/upload
 s/2022/11/dokfest2022.jpg
CATEGORIES:kino
END:VEVENT
BEGIN:VTIMEZONE
TZID:Europe/Berlin
X-LIC-LOCATION:Europe/Berlin
BEGIN:STANDARD
DTSTART:20221030T020000
TZOFFSETFROM:+0200
TZOFFSETTO:+0100
TZNAME:CET
END:STANDARD
END:VTIMEZONE
END:VCALENDAR