BEGIN:VCALENDAR
VERSION:2.0
PRODID:-//wp-events-plugin.com//7.0.5//EN
TZID:Europe/Berlin
X-WR-TIMEZONE:Europe/Berlin
BEGIN:VEVENT
UID:14116@die-dezentrale.net
DTSTART;TZID=Europe/Berlin:20251031T200000
DTEND;TZID=Europe/Berlin:20251031T200000
DTSTAMP:20250916T120346Z
URL:https://www.die-dezentrale.net/events/dr-bontempis-snake-oil-company/
SUMMARY:DR. BONTEMPI'S SNAKE OIL COMPANY
DESCRIPTION:\n\nBeginn: 20 Uhr\, entrada 19 Uhr\n\nEintritt: 20 €\n\nOrt:
  Kulturfabrik Salzmann - Spielstätte am Kupferhammer\, Leipziger Straße 
 407\n\nVeranstalterin: Kulturfabrik Salzmann\n\nFrenetisch gefeiert auf Fe
 stivals in U.S.A. e inglaterra: Was als kleines Nebenprojekt anfing\, hat s
 ich zum Geheimtipp für Folk-Fans und Freunde alter Country &amp\; Western
 -Musik aus aller Welt gemausert! No es de extrañar - wo kann man heutzutage so e
 twas noch hören\, geschweige denn\, ver en vivo y en color?\n\nDie Schla
 ngenöl-Kompanie des Herrn Dr. Bontempi – bekannt unter anderem als Lead
 sänger der MONTESAS – serviert authentische\, wilde\, alte Tanzmusik\, 
 schmissigen Hillbilly-Blues-Stomp und ekstatischen Western-Swing mit Hunde
 hüttenbass\, Schlaggitarre\, Fiedel\, Hawaiigitarre\, Stromgitarre und Ba
 umwollpflückergesang und serviert eigene Versionen alter Gassenhauer aus 
 dem Wilden Westen der 30er bis 50er Jahre.\n\nWenn Dr. Bontempi's Snake Oi
 l Company zum Tanz aufspielt\, swingt und schunkelt\, rockt und schaukelt 
 es wie in einem Saloon aus den schwarz/weiß Western-Filmen. Und als wäre
  das nicht genug\, tritt die Schlangenöl-Kompanie stilecht in spitzen Sti
 efeln\, Pantalones de vestir y camisas occidentales.. Als kleines extra Schmankerl kan
 n man sich Dr. Bontempi's original Schlangenöl sogar mit nach Hause nehme
 n\, pero - PRECAUCIÓN! Sólo una gota al día!\n\nBesetzung: Ira Lee - Rhyth
 mus-Gitarre &amp\; Gesang\; Franny Lee – Fiddle\; Björn Kunze – Kontr
 abass\; Marcel Bontempi - Elektrische Gitarre &amp\; Gesang\n\n[foto: DR. 
 LA COMPAÑÍA DE ACEITE DE SERPIENTE DE BONTEMPI © René Ruprecht]\n\n&nbsp\;\n\nReservierung
 / Anmeldung unter www.kulturfabrik-kassel.de oder per E-Mail: info@kulturf
 abrik-kassel.de\n\n&nbsp\;
CATEGORIES:konzert
LOCATION:Kulturfabrik Salzmann (en el martillo de cobre) | Leipziger Strasse 407\, 
 Kassel\, Hessen\, 34123\, Alemania
GEO:51.294032;9.557798
X-APPLE-STRUCTURED-LOCATION;VALUE=URI;X-ADDRESS=Leipziger Straße 407\, Kas
 sel\, Hessen\, 34123\, Alemania;X-APPLE-RADIUS=100;X-TITLE=Kulturfabrik Sa
 lzmann (en el martillo de cobre):geo:51.294032,9.557798
END:VEVENT
BEGIN:VTIMEZONE
TZID:Europe/Berlin
X-LIC-LOCATION:Europe/Berlin
BEGIN:STANDARD
DTSTART:20251026T020000
TZOFFSETFROM:+0200
TZOFFSETTO:+0100
TZNAME:CET
END:STANDARD
END:VTIMEZONE
END:VCALENDAR