BEGIN:VCALENDAR
VERSION:2.0
PRODID:-//wp-events-plugin.com//7.0.5//EN
TZID:Europe/Berlin
X-WR-TIMEZONE:Europe/Berlin
BEGIN:VEVENT
UID:11564@die-dezentrale.net
DTSTART;TZID=Europe/Berlin:20240820T143000
DTEND;TZID=Europe/Berlin:20240820T190000
DTSTAMP:20240806T144531Z
URL:HTTPS://www.die-dezentrale.net/events/earth-care-projekt-gaertnern-im-
 forstfeldgarten-2-2024-08-20/
SUMMARY:Earth Care Projekt – Gärtnern im ForstFeldGarten
DESCRIPTION:可持续发展目标 15: Leben am Land\n\nBeim Earth Care Projekt geht es darum\
 , pflegend und gestaltend Sorge zu tragen für ein konkretes Stück Land\,
  即那个 2012 von der Essbaren Stadt initiierten ForstFeldGarten im K
 asseler Stadtteil Forstfeld. 作为每周开放优惠 (jeden Die
 nstag) ermöglicht es Teilnehmern\, den ganzen Jahreszeitenzyklus im Gemei
 nschaftsgarten mit allen saisonalen Tätigkeiten von Bodenpflege\, 播种
 \, Gehölzpflege\, Kompost\, Wiesenmahd\, 恩特等. 去体验. Im Fokus 
 steht insbesondere der ca. 2500 qm große Waldgartenbereich im ForstFeldGa
 rten\, ein vielfältiges fruchtendes Biotop\, das einlädt\, eine tiefere 
 Naturverbindung einzugehen. Anleitung von Karsten Winnemuth\, Essbare Stad
 t e.V.\nUnter dem Motto "瓦尔道我们:设计" öffnet von August bis Se
 ptember 2024 der Zukunftsladen in Waldau seine Pforten und lädt zum Mitwi
 rken im Quartier ein. \n&nbsp\;
ATTACH;FMTTYPE=image/jpeg:HTTPS://www.die-dezentrale.net/wp-content/upload
 s/2024/08/Screenshot-2024-08-06-at-15-10-03-Zukunftsladen-Waldau-Plakat-A3
 -02.indd-Zukunftsladen-Waldau-Plakat-A3.pdf.png
CATEGORIES:sonstiges
END:VEVENT
BEGIN:VTIMEZONE
TZID:Europe/Berlin
X-LIC-LOCATION:Europe/Berlin
BEGIN:DAYLIGHT
DTSTART:20240331T030000
TZOFFSETFROM:+0100
TZOFFSETTO:+0200
TZNAME:CEST
END:DAYLIGHT
END:VTIMEZONE
END:VCALENDAR