BEGIN:VCALENDAR
VERSION:2.0
PRODID:-//wp-events-plugin.com//7.0.5//EN
TZID:Europe/Berlin
X-WR-TIMEZONE:Europe/Berlin
BEGIN:VEVENT
UID:11664@die-dezentrale.net
DTSTART;TZID=Europe/Berlin:20240910T143000
DTEND;TZID=Europe/Berlin:20240910T190000
DTSTAMP:20240911T125712Z
URL:https://www.die-dezentrale.net/events/earth-care-projekt-gaertnern-im-
 forstfeldgarten-3-2024-09-10/
SUMMARY:Earth Care Projekt – Gärtnern im ForstFeldGarten
DESCRIPTION:ODD 15: Leben an Land\n\nBeim Earth Care Projekt geht es darum\
 , pflegend und gestaltend Sorge zu tragen für ein konkretes Stück Land\,
  à savoir celui-là 2012 von der Essbaren Stadt initiierten ForstFeldGarten im K
 asseler Stadtteil Forstfeld. En offre hebdomadaire ouverte (jeden Die
 nstag) ermöglicht es Teilnehmern\, den ganzen Jahreszeitenzyklus im Gemei
 nschaftsgarten mit allen saisonalen Tätigkeiten von Bodenpflege\, semis
 \, Gehölzpflege\, Kompost\, Wiesenmahd\, Ernte etc. faire l&#039;expérience. Im Fokus 
 steht insbesondere der ca. 2500 qm große Waldgartenbereich im ForstFeldGa
 rten\, ein vielfältiges fruchtendes Biotop\, das einlädt\, eine tiefere 
 Naturverbindung einzugehen. Anleitung von Karsten Winnemuth\, Essbare Stad
 t e.V.\nUnter dem Motto "Waldau WE:conception" öffnet von August bis Se
 ptember 2024 der Zukunftsladen in Waldau seine Pforten und lädt zum Mitwi
 rken im Quartier ein.\n\nMehr dazu unter www.unikassel.de/go/waldau\n\n&nb
 sp\;
ATTACH;FMTTYPE=image/jpeg:https://www.die-dezentrale.net/wp-content/upload
 s/2024/08/Screenshot-2024-08-06-at-15-10-03-Zukunftsladen-Waldau-Plakat-A3
 -02.indd-Zukunftsladen-Waldau-Plakat-A3.pdf.png
CATEGORIES:aktion
END:VEVENT
BEGIN:VTIMEZONE
TZID:Europe/Berlin
X-LIC-LOCATION:Europe/Berlin
BEGIN:DAYLIGHT
DTSTART:20240331T030000
TZOFFSETFROM:+0100
TZOFFSETTO:+0200
TZNAME:CEST
END:DAYLIGHT
END:VTIMEZONE
END:VCALENDAR