BEGIN:VCALENDAR
VERSION:2.0
PRODID:-//wp-events-plugin.com//7.0.5//EN
TZID:Europe/Berlin
X-WR-TIMEZONE:Europe/Berlin
BEGIN:VEVENT
UID:11814@die-dezentrale.net
DTSTART;TZID=Europe/Berlin:20240921T170000
DTEND;TZID=Europe/Berlin:20240921T183000
DTSTAMP:20240916T151357Z
URL:https://www.die-dezentrale.net/events/el-lenguaje-de-las-nubes-circo-f
 antazztico/
SUMMARY:El lenguaje de las nubes – Circo Fantazztico
DESCRIPTION:Circus Rambazotti präsentiert:\n„El lenguaje de las nubes“
  – Der Circo Fantazztico auf Europatournee 2024\n\nUnser Partnercircus C
 irco Fantazztico aus San Isidro\, Costa Rica\, ist im Spätsommer 2024 auf
  Europatournee mit ihrem neuen Stück „El lenguaje de las nubes“\, was
  ins deutsche übersetzt „Die Sprache der Wolken“ heisst. Die Show fin
 det am Samstag\, den 21. 09. 2024 um 17:00 Uhr im Circushaus Rambazotti s
 tatt (Ludwig-Erhard-Straße 21\, 34131 Kassel).\n\nFesselnde Performances 
 und berührende Geschichten – Die Geschichte handelt von einem neugieri
 gen Kind\, das durch eine lebendige Nachbarschaft streift und dabei die Ab
 enteuer des Lebens entdeckt. Inspiriert von den Werken des costaricanische
 n Malers und Poeten Francisco Amighetti\, wird diese Erkundungsreise zu ei
 nem tiefgründigen Zirkustheaterstück verwoben. Hier vereinen sich Akroba
 tik\, Tanz und Jonglage zu einer kunstvollen Darbietung\, die nicht nur un
 terhält\, sondern auch die Tiefen des menschlichen Lebens reflektiert. Da
 s Stück thematisiert die Bedeutung von Träumen und der Freiheit\, die ei
 gene Kreativität auszuleben. „El lenguaje de las nubes“ ist eine poet
 ische und magische Zirkusvorstellung\, die die Zuschauerinnen und Zuschaue
 r auf eine Reise in eine Welt voller Fantasie und Emotionen mitnimmt.\n\nD
 ie Fantazzticos beeindrucken nicht nur mit ihrer Show auf der Bühne\, son
 dern auch mit seinem Engagement hinter den Kulissen. Durch Zirkuspädagog
 ik als Medium der Präventivarbeit bietet der Circo Fantazztico sozial gef
 ährdeten Kindern und Jugendlichen\, die in den ärmsten Vierteln der Regi
 on im Süden des Landes aufwachsen\, eine zukunftsorientierte Freizeitgest
 altung in einem geschützten Rahmen. Ziel des Circus ist es eine soziale G
 emeinschaft und einen sicheren Ort zu schaffen\, an welchem die Jugendlich
 en ihre Freizeit in einer sinnvollen\, positiven und gesunden Art und Weis
 e verbringen können\, indem sie körperlich künstlerische Fähigkeiten\,
  sowie sozial wichtige Werte erlernen. Für sie ist der Circo Fantazztico 
 die Möglichkeit aus ihrem Leben etwas zu machen und durch Training\, Tale
 nt und harte Arbeit Fähigkeiten zu entwickeln von denen sie unter Umstän
 den später leben können.Die Gruppe präsentiert sich das ganze Jahr übe
 r auf nationaler Ebene und seit 2007 mit ihrer ersten Europatournee auch a
 uf internationaler Ebene.\n\nKartenvorbestellungen unter: www.rambazotti.d
 e/shows/\n\nje Karte 9\,00 EUR (ohne Ermäßigung) // je Karte 6\,00 EUR (
 für Kinder bis 13 Jahren)
ATTACH;FMTTYPE=image/jpeg:https://www.die-dezentrale.net/wp-content/upload
 s/2024/09/Fantazztico-Wolken-Flyer.jpg
CATEGORIES:jugend,kinder,performance,sport
END:VEVENT
BEGIN:VTIMEZONE
TZID:Europe/Berlin
X-LIC-LOCATION:Europe/Berlin
BEGIN:DAYLIGHT
DTSTART:20240331T030000
TZOFFSETFROM:+0100
TZOFFSETTO:+0200
TZNAME:CEST
END:DAYLIGHT
END:VTIMEZONE
END:VCALENDAR