BEGIN:VCALENDAR
VERSION:2.0
PRODID:-//wp-events-plugin.com//7.0.5//EN
TZID:Europe/Berlin
X-WR-TIMEZONE:Europe/Berlin
BEGIN:VEVENT
UID:11152@die-dezentrale.net
DTSTART;TZID=Europe/Berlin:20240618T160000
DTEND;TZID=Europe/Berlin:20240618T190000
DTSTAMP:20240610T110139Z
URL:https://www.die-dezentrale.net/events/energieberatung-heizung/
SUMMARY:Energieberatung Heizung
DESCRIPTION:Wohin geht es mit dem neuen Gebäudeenergiegesetz\, was muss ic
 h als nächstes bedenken. ¿Qué opciones tengo localmente??\nUnter d
 em Motto „Gemeinsam gut leben“ öffnet von Juni bis Juli 2024 der Zuku
 nftsladen in Oberzwehren den Raum zur Auseinandersetzung mit Nachhaltigke
 it im Stadtteil.\nDer Zukunftsladen Oberzwehren entsteht in Kooperation vo
 n Bürger:innen mit der Universität Kassel im Rahmen des Projektes „SDG
 + Lab“.\nAlle Aktionen finden Sie unter www.uni-kassel.de/go/oberzwehre
 n  Der Eintritt ist frei.
ATTACH;FMTTYPE=image/jpeg:https://www.die-dezentrale.net/wp-content/upload
 s/2024/06/Screenshot-2024-06-03-180631-9.jpg
CATEGORIES:beratung
END:VEVENT
BEGIN:VTIMEZONE
TZID:Europe/Berlin
X-LIC-LOCATION:Europe/Berlin
BEGIN:DAYLIGHT
DTSTART:20240331T030000
TZOFFSETFROM:+0100
TZOFFSETTO:+0200
TZNAME:CEST
END:DAYLIGHT
END:VTIMEZONE
END:VCALENDAR