BEGIN:VCALENDAR
VERSION:2.0
PRODID:-//wp-events-plugin.com//7.0.5//EN
TZID:Europe/Berlin
X-WR-TIMEZONE:Europe/Berlin
BEGIN:VEVENT
UID:12612@die-dezentrale.net
DTSTART;TZID=Europe/Berlin:20250215T200000
DTEND;TZID=Europe/Berlin:20250215T200000
DTSTAMP:20250109T144455Z
URL:https://www.die-dezentrale.net/events/erwin-r-singer-songwriter/
SUMMARY:Erwin R. (Singer-Songwriter)
DESCRIPTION:Die Geschichten für seine Songs hat Erwin R. als Weltenbummler
 \, Entwicklungshelfer\, Profimusiker\, Umweltaktivist und Buchautor gesamm
 elt. Nach hunderten Konzerten als Begleitmusiker hat er sich dem Liedermac
 hen im österreichischen Dialekt verschrieben. Seitdem bringt er mit seine
 r Gitarre in der Hand und seinem Herzen auf der Zunge sein Publikum zum La
 uschen\, Nachdenken\, Lachen und Tanzen. Erwin R. fesselt mit eingängigen
  Songs und Texten\, die unter die Haut gehen. Das fünfte Album von Erwin 
 R. heißt „ondraseits“\, ergänzt sich mit “anaseits” zu einem Zyk
 lus und ist wie sein Vorgänger auf Konstantin Weckers Label Sturm&amp\;Kl
 ang erschienen. Erwin R. ist darauf seinem charmanten österreichischen Di
 alekt treu geblieben und behandelt auch brisante Themen. Durch zahlreiche 
 Konzerte in Österreich und Deutschland sowie regelmäßiges Airplay auf v
 erschiedensten Sendern sorgt er zusätzlich immer wieder für Aufmerksamke
 it.\nLive präsentiert Erwin R. seine Lieder sowohl solo\, im Duo als auch
  mit seiner international besetzten "Bagage".\n\nhttps://youtu.be/o0AwlvB0
 MF8?si=ttuRVk0S7Eb9FLdJ\n\n\nEinlass ab 19 Uhr / Beginn um 20 Uhr\n\nEintr
 itt (nur Abendkasse): 8 – 14 € (nach Selbsteinschätzung)\n\nDas Konze
 rt findet in der Bar des Sandershauses statt.\n
ATTACH;FMTTYPE=image/jpeg:https://www.die-dezentrale.net/wp-content/upload
 s/2025/01/472461880_650815370605635_8894256381722536064_n.jpg
CATEGORIES:konzert
LOCATION:Sandershaus | Sandershäuser Straße 79\, Kassel\, 34123\, Deutsch
 land
GEO:51.31061;9.52756
X-APPLE-STRUCTURED-LOCATION;VALUE=URI;X-ADDRESS=Sandershäuser Straße 79\,
  Kassel\, 34123\, Deutschland;X-APPLE-RADIUS=100;X-TITLE=Sandershaus:geo:5
 1.31061,9.52756
END:VEVENT
BEGIN:VTIMEZONE
TZID:Europe/Berlin
X-LIC-LOCATION:Europe/Berlin
BEGIN:STANDARD
DTSTART:20241027T020000
TZOFFSETFROM:+0200
TZOFFSETTO:+0100
TZNAME:CET
END:STANDARD
END:VTIMEZONE
END:VCALENDAR