BEGIN:VCALENDAR
VERSION:2.0
PRODID:-//wp-events-plugin.com//7.0.5//EN
TZID:Europe/Berlin
X-WR-TIMEZONE:Europe/Berlin
BEGIN:VEVENT
UID:11477@die-dezentrale.net
DTSTART;TZID=Europe/Berlin:20240813T180000
DTEND;TZID=Europe/Berlin:20240813T200000
DTSTAMP:20240725T071227Z
URL:https://www.die-dezentrale.net/events/essen-in-der-kantine-fuer-alle-2
 -2024-08-13/
SUMMARY:Essen in der Kantine für Alle
DESCRIPTION:Jeden Dienstagabend öffnet die Kantine für Alle in Kassel ihr
 e Türen. نفتح 17:30 Uhr\, من 18 Uhr gibt es Essen im Stadttei
 lzentrum Wesertor.\n\nDie Kantine für Alle ist unsere Antwort auf soziale
  Ungerechtigkeit\, eine durchkommerzialisierte Innenstadt und ein klimasch
 ädliches Ernährungssystem:\n\n🍲️ Leckeres und gesundes Essen  – 
 kostenlos (ونحن نتطلع إلى التبرع). Essen gibt es ab 18 Uhr.\n\n
 🎉️ Alle (باستثناء النازيين) sind willkommen – bringt eure Freund*innen\,
  Nachbar*innen und Kolleg*innen mit.\n\n🌱 Gemeinsam für ein klimagerec
 htes Ernährungssystem – wir kochen pflanzenbasiert und mit regionalen s
 owie geretteten Lebensmitteln.\n\n&nbsp\;\n\nWir kochen alle ehrenamtlich 
 und freuen uns über weitere Menschen\, die sich uns anschließen möchten
 .\n\nDie Kantine ist ein Projekt des gemeinnützigen Vereins Ernährungsra
 t Kassel und Region. Das Projekt erhält eine Förderung durch den Pakt ge
 gen Armut Kassel. Das Stadtteilzentrum Wesertor findet ihr in der Weserstr
 aße 26\, كاسل. Die nahegelegenen Haltestellen sind Weserspitze oder Kat
 zensprung mit den Linien 3\, 6 und 7.\n\nHomepage: https://ernaehrungsrat
 -kassel.de/kantine-fuer-alle/\n\nInstagram: @ernaehrungsrat_kassel\n\nMail
 : kantine@ernaehrungsrat-kassel.de
ATTACH;FMTTYPE=image/jpeg:https://www.die-dezentrale.net/wp-content/upload
 s/2024/07/ER_KafA-Wesertor.png
CATEGORIES:عمل,essen
END:VEVENT
BEGIN:VTIMEZONE
TZID:Europe/Berlin
X-LIC-LOCATION:Europe/Berlin
BEGIN:DAYLIGHT
DTSTART:20240331T030000
TZOFFSETFROM:+0100
TZOFFSETTO:+0200
TZNAME:CEST
END:DAYLIGHT
END:VTIMEZONE
END:VCALENDAR