BEGIN:VCALENDAR
VERSION:2.0
PRODID:-//wp-events-plugin.com//7.0.5//EN
TZID:Europe/Berlin
X-WR-TIMEZONE:Europe/Berlin
BEGIN:VEVENT
UID:12349@die-dezentrale.net
DTSTART;TZID=Europe/Berlin:20241210T190000
DTEND;TZID=Europe/Berlin:20241210T203000
DTSTAMP:20241110T143135Z
URL:https://www.die-dezentrale.net/events/experimentale-perspektiven-vortr
 agsreihe-zur-transformation-in-stadt-und-land-2-endboss-und-radar-ffm/
SUMMARY:Perspectives expérimentales - Vortragsreihe zur Transformation in St
 adt und Land #4: Urban Equipe und Botanica Urbana
DESCRIPTION:In der Experimentalen vom SDG+Lab entwickeln Wissenschaftler:in
 nen gemeinsam mit Partner:innen aus der Stadtverwaltung sowie Bürgerinnen
  der Stadt Kassel und dem Umland neue Nutzungskonzepte für unattraktive F
 lächen in Stadt und Region.\n\nIn der Vortragsreihe wollen wir von Mensch
 en lernen\, qui ont déjà contribué avec succès à la transformation
 . Es gibt jeweils zwei Inputs von Pionier:innen und eine anschließende Di
 skussion.\n\nDienstags\, 19:00 - UNI:LOKAL Wilhelmstraße 21\, 34117 Kasse
 l\n\n12.11.24 Hallo e.V. + Constructlab | Lien vers l'événement | Insta\n
 \n03.12.24 Endboss + Radar FFM\n\n10.12.24 Stadtlücken + Paper Planes\n\n
 14.01.25 Équipe urbaine + Botanica Urbana
ATTACH;FMTTYPE=image/jpeg:https://www.die-dezentrale.net/wp-content/upload
 s/2024/11/IMG_3715.jpeg
CATEGORIES:vortrag
END:VEVENT
BEGIN:VTIMEZONE
TZID:Europe/Berlin
X-LIC-LOCATION:Europe/Berlin
BEGIN:STANDARD
DTSTART:20241027T020000
TZOFFSETFROM:+0200
TZOFFSETTO:+0100
TZNAME:CET
END:STANDARD
END:VTIMEZONE
END:VCALENDAR