BEGIN:VCALENDAR
VERSION:2.0
PRODID:-//wp-events-plugin.com//7.0.5//EN
TZID:Europe/Berlin
X-WR-TIMEZONE:Europe/Berlin
BEGIN:VEVENT
UID:8700@die-dezentrale.net
DTSTART;TZID=Europe/Berlin:20220609T183000
DTEND;TZID=Europe/Berlin:20220609T220000
DTSTAMP:20220529T194333Z
URL:https://www.die-dezentrale.net/events/femizid-an-besma-a-prozessbeglei
 tung-als-feministische-praxis/
SUMMARY:Femizid an Besma A. - Prozessbegleitung als feministische Praxis
DESCRIPTION:في أبريل 2020 أصبح بسمة أ. قتل من قبل زوجها. Wir sa
 gen: مقتول. يقول هو ومحاموه: عن طريق الخطأ. Wir sag
 en: لم يكن هذا من قبيل الصدفة. Wir gehen davon aus\, dass es Mord war.\n\nOb gep
 lant oder ungeplant - مرة أخرى قتل رجل زوجته. Die Frau\, 
 die er zuvor bedroht\, geschlagen\, خاضع للرقابة والإذلال. Nun 
 steht dieser Mann vor Gericht. نحن متواجدون كل يوم من أيام العملية. Weil wi
 r die Nebenklägerinnen - أخت وأم الموتى - begleit
 en wollen. Weil wir die patriarchalen Verhaltensweisen und Strukturen im G
 ericht aufdecken wollen. Weil wir Gerechtigkeit für Besma und alle andere
 n Frauen fordern.\n\nVortrag von der AG Prozessbegleitung zum Femizid an B
 esma A. über ihre Beobachtungen\, الخبرات والمعرفة / organisi
 ert von der Initiative gegen Feminizide Kassel (gegenfemizide-ks@riseup.ne
 t)\n\nAnkommen 18:30 Uhr\; بداية المحاضرة 19 ساعة. Es wird vor dem Vortrag 
 und nachher noch Kneipe geben.
ATTACH;FMTTYPE=image/jpeg:https://www.die-dezentrale.net/wp-content/upload
 s/2022/05/FronEInladungIV.png
CATEGORIES:حانة,vortrag
LOCATION:منتجع صحي مقهى الجماعي | Sternstraße 20\, Kassel\, Hessen\, 34123\
 , ألمانيا
GEO:51.312631;9.504719
X-APPLE-STRUCTURED-LOCATION;VALUE=URI;X-ADDRESS=Sternstraße 20\, Kassel\, 
 Hessen\, 34123\, ألمانيا;X-APPLE-RADIUS=100;X-TITLE=Kollektivcafé 
 Kurbad:geo:51.312631,9.504719
END:VEVENT
BEGIN:VTIMEZONE
TZID:Europe/Berlin
X-LIC-LOCATION:Europe/Berlin
BEGIN:DAYLIGHT
DTSTART:20220327T030000
TZOFFSETFROM:+0100
TZOFFSETTO:+0200
TZNAME:CEST
END:DAYLIGHT
END:VTIMEZONE
END:VCALENDAR