BEGIN:VCALENDAR
VERSION:2.0
PRODID:-//wp-events-plugin.com//7.0.5//EN
TZID:Europe/Berlin
X-WR-TIMEZONE:Europe/Berlin
BEGIN:VEVENT
UID:8700@die-dezentrale.net
DTSTART;TZID=Europe/Berlin:20220609T183000
DTEND;TZID=Europe/Berlin:20220609T220000
DTSTAMP:20220529T194333Z
URL:https://www.die-dezentrale.net/events/femizid-an-besma-a-prozessbeglei
 tung-als-feministische-praxis/
SUMMARY:Femizid ve Besma A. - Prozessbegleitung als feministische Praxis
DESCRIPTION:Nisan içinde 2020 Besma A oldu. kocası tarafından öldürüldü. Wir sa
 gen: öldürülmüş. O ve savunma avukatları diyor ki: Yanlışlıkla. Wir sag
 en: Bu bir kaza değildi. Wir gehen davon aus\, dass es Mord war.\n\nOb gep
 lant oder ungeplant - yine bir adam karısını öldürdü. Die Frau\, 
 die er zuvor bedroht\, geschlagen\, kontrollü ve aşağılanmış. Nun 
 steht dieser Mann vor Gericht. Sürecin her günü oradayız. Weil wi
 r die Nebenklägerinnen - ölünün kız kardeşi ve annesi - begleit
 en wollen. Weil wir die patriarchalen Verhaltensweisen und Strukturen im G
 ericht aufdecken wollen. Weil wir Gerechtigkeit für Besma und alle andere
 n Frauen fordern.\n\nVortrag von der AG Prozessbegleitung zum Femizid an B
 esma A. über ihre Beobachtungen\, deneyimler ve bilgi / organisi
 ert von der Initiative gegen Feminizide Kassel (gegenfemizide-ks@riseup.ne
 t)\n\nAnkommen 18:30 Uhr\; dersin başlangıcı 19 Saat. Es wird vor dem Vortrag 
 und nachher noch Kneipe geben.
ATTACH;FMTTYPE=image/jpeg:https://www.die-dezentrale.net/wp-content/upload
 s/2022/05/FronEInladungIV.png
CATEGORIES:bar,vortrag
LOCATION:Toplu Café sağlık kaplıca | Sternstraße 20\, Kassel\, Hessen\, 34123\
 , Almanya
GEO:51.312631;9.504719
X-APPLE-STRUCTURED-LOCATION;VALUE=URI;X-ADDRESS=Sternstraße 20\, Kassel\, 
 Hessen\, 34123\, Almanya;X-APPLE-RADIUS=100;X-TITLE=Kollektivcafé Kurbad:
 geo:51.312631,9.504719
END:VEVENT
BEGIN:VTIMEZONE
TZID:Europe/Berlin
X-LIC-LOCATION:Europe/Berlin
BEGIN:DAYLIGHT
DTSTART:20220327T030000
TZOFFSETFROM:+0100
TZOFFSETTO:+0200
TZNAME:CEST
END:DAYLIGHT
END:VTIMEZONE
END:VCALENDAR