BEGIN:VCALENDAR
VERSION:2.0
PRODID:-//wp-events-plugin.com//7.0.5//EN
TZID:Europe/Berlin
X-WR-TIMEZONE:Europe/Berlin
BEGIN:VEVENT
UID:6946@die-dezentrale.net
DTSTART;TZID=Europe/Berlin:20200313T200000
DTEND;TZID=Europe/Berlin:20200313T223000
DTSTAMP:20200301T233701Z
URL:https://www.die-dezentrale.net/events/film-colour-out-of-space/
SUMMARY:Film: Colour Out Of Space
DESCRIPTION:Randfilm Nights präsentiert\n\nColour Out Of Space (Stany Zjednoczone 2019)\n
 Regie: Richard Stanley\n\nKosmischer Horror nach H.P. Lovecraft vom berüh
 mt-berüchtigten Wiedergänger Richard Stanley (w. a. DUST DEVIL\, HARDWAR
 E)... do następnego niesamowitej wydajności Mister Nicolas Cage!\n
 \nAuf der Alpaka-Farm der Familie Gardner schägt ein mysteriöser Meteori
 t ein\, der merkwürdige Veränderungen mit sich bringt.\nKult-Regisseur R
 ichard Stanley (&quot;Sprzęt komputerowy&quot;) wystawił opowiadanie H. P.. Lov
 ecraft (1927) als psychedelisches B-Movie\, von den Produzenten von „Man
 dy“\, wieder mit Nicolas Cage in der Hauptrolle.\n\nEintritt: 6 Euro
CATEGORIES:kino
END:VEVENT
BEGIN:VTIMEZONE
TZID:Europe/Berlin
X-LIC-LOCATION:Europe/Berlin
BEGIN:STANDARD
DTSTART:20191027T020000
TZOFFSETFROM:+0200
TZOFFSETTO:+0100
TZNAME:CET
END:STANDARD
END:VTIMEZONE
END:VCALENDAR