BEGIN:VCALENDAR
VERSION:2.0
PRODID:-//wp-events-plugin.com//7.0.5//EN
TZID:Europe/Berlin
X-WR-TIMEZONE:Europe/Berlin
BEGIN:VEVENT
UID:15206@die-dezentrale.net
DTSTART;TZID=Europe/Berlin:20260426T190000
DTEND;TZID=Europe/Berlin:20260426T210000
DTSTAMP:20260414T090956Z
URL:https://www.die-dezentrale.net/events/film-the-watermelon-woman/
SUMMARY:Film "THE WATERMELON WOMAN"
DESCRIPTION:Hatta ondan önce 3. Sizleri Kassel Queer Film Festivali&#039;ne davet ediyoruz 26. A
 pril\, dem Lesbian Visibility Day\, zu einem zweiteiligen Warm-Up-Event ei
 nladen. itibaren 14 Uhr gibts Kaffee und Kuchen in der b2 Bar und abends gibts e
 inen echten Klassiker des queeren Kinos!\nUm 19 Uhr zeigen wir im im KiezK
 ino im Film-Shop\, der weltältesten Videothek\, die auch Sponsor dieser V
 eranstaltung ist\, den Spielfilm The Watermelon Woman (Amerika Birleşik Devletleri 1996):\n\nDie S
 chwarze lesbische Filmemacherin Cheryl jobbt in einer Videothek. In einem 
 Film aus den 1930ern entdeckt sie eine Schwarze Schauspielerin\, die sie t
 rotz der von ihr gespielten stereotypen „Mammy“-Rolle fasziniert. Bei 
 ihrer Recherche findet Cheryl heraus\, dass die „Watermelon Woman“\, w
 ie sie in den Credits bezeichnet wird\, eigentlich Fae Richards heißt. Au
 ch deren geheime Beziehung mit der weißen Regisseurin des Films tritt ans
  Licht. Währenddessen verliebt sich Cheryl in die weiße Videothekenkundi
 n Diana\, was zum Konflikt mit ihrer besten Freundin führt. Ist Cheryl f
 ür Diana nur ein Fetisch?\n\nMit The Watermelon Woman hat Cheryl Dunye di
 e Schwarze queere Filmgeschichte\, die sich als klaffende Lücke in den Ar
 chiven offenbart hatte\, kurzerhand selbst erfunden. Dunyes satirische Moc
 kumentary\, ein Meilenstein sowohl des Black Cinema als auch des New Queer
  Cinema\, feiert dieses Jahr das 30. yıl dönümü. Der Kampf um die Sichtbarm
 achung marginalisierter Geschichte(n) geht weiter.\n\nTHE WATERMELON WOMAN
 \nCheryl Dunye / Amerika Birleşik Devletleri 1996 / 90 dakika / Englisch mit deutschen Untertitel
 n\n\nEintritt: 5-12 € (Özdeğerlednirmede)\n\nAdresse Film-Shop: E
 rzbergerstraße 12\, 34117 Kassel
ATTACH;FMTTYPE=image/jpeg:https://www.die-dezentrale.net/wp-content/upload
 s/2026/04/thewatermelonwoman-poster_web.jpg
CATEGORIES:BIPoC,FLINTA,sinematik,LGBTIQ
LOCATION:Film Deposu Kassel | Erzbergerstr. 12\, Kassel\, 34117\, Almanya
GEO:51.32013;9.49309
X-APPLE-STRUCTURED-LOCATION;VALUE=URI;X-ADDRESS=Erzbergerstr. 12\, Kassel\,
  34117\, Almanya;X-APPLE-RADIUS=100;X-TITLE=Film-Shop Kassel:geo:51.32013,
 9.49309
END:VEVENT
BEGIN:VTIMEZONE
TZID:Europe/Berlin
X-LIC-LOCATION:Europe/Berlin
BEGIN:DAYLIGHT
DTSTART:20260329T030000
TZOFFSETFROM:+0100
TZOFFSETTO:+0200
TZNAME:CEST
END:DAYLIGHT
END:VTIMEZONE
END:VCALENDAR