BEGIN:VCALENDAR
VERSION:2.0
PRODID:-//wp-events-plugin.com//7.0.5//EN
TZID:Europe/Berlin
X-WR-TIMEZONE:Europe/Berlin
BEGIN:VEVENT
UID:10438@die-dezentrale.net
DTSTART;TZID=Europe/Berlin:20240209T190000
DTEND;TZID=Europe/Berlin:20240209T210000
DTSTAMP:20240131T202026Z
URL:https://www.die-dezentrale.net/events/filmabend-tomorrow-die-welt-ist-
 voller-loesungen-im-zukunftsladen-rewir-wilhelmshoehe/
SUMMARY:Filmabend: „Tomorrow – Die Welt ist voller Lösungen“ im Zuku
 nftsladen „Re:Wir“ Wilhelmshöhe
DESCRIPTION:Der Zukunftsladen „Re:Wir“ Wilhelmshöhe lädt herzlich zu 
 einem Filmabend in den Laden ein! Der Dokumentarfilm "Tomorrow - Die Welt 
 ist voller Lösungen" zeigt zunehmende Probleme des Klimawandels auf. Als 
 Lösungsansätze werden verschiedenste Projekte und Initiativen mit ökolo
 gischen\, wirtschaftlichen und Demokratischen Ideen aufgezeigt. Kommt vorb
 ei!\n\nDer Zukunftsladen „Re:Wir“ ist eine Zusammenarbeit zwischen Bü
 rger:innen vor Ort und der Universität Kassel im Rahmen des Projektes „
 SDG+ Lab".\n\nOrt\nZukunftsladen Re:Wir\nWilhelmshöher Allee 253-255\n341
 31 Kassel
CATEGORIES:kino
END:VEVENT
BEGIN:VTIMEZONE
TZID:Europe/Berlin
X-LIC-LOCATION:Europe/Berlin
BEGIN:STANDARD
DTSTART:20231029T020000
TZOFFSETFROM:+0200
TZOFFSETTO:+0100
TZNAME:CET
END:STANDARD
END:VTIMEZONE
END:VCALENDAR