BEGIN:VCALENDAR
VERSION:2.0
PRODID:-//wp-events-plugin.com//7.0.5//EN
TZID:Europe/Berlin
X-WR-TIMEZONE:Europe/Berlin
BEGIN:VEVENT
UID:13419@die-dezentrale.net
DTSTART;TZID=Europe/Berlin:20250710T180000
DTEND;TZID=Europe/Berlin:20250710T200000
DTSTAMP:20250401T153231Z
URL:https://www.die-dezentrale.net/events/filmvorfuehrung-diskussion-das-g
 egenteil-von-grau-stadtentwicklung-im-ruhrgebiet-und-in-kassel/
SUMMARY:Projekcja filmu + dyskusja: "Przeciwieństwo szarości". Stadtentwic
 klung im Ruhrgebiet (oraz w Kassel)
DESCRIPTION:\n\nEintritt frei\n\nWann? 10.Lipca o 18 Uhr\n\nWo? Arnold-Bode
 -Straße 12\, sala wykładowa 4\, Campus Holländischer Platz\n\nDie Filmvorführ
 ung wird gerahmt durch zwei jeweils 15-minütige Inputs:\n\n 	Recht auf St
 adt Kassel\n 	Evelyn Riemer\,  Wissenschaftliche Mitarbeiterin im Fachge
 biet Ökonomie der Stadt- i rozwoju regionalnego na Uniwersytecie w Kassel:
  „Do błękitnego nieba nad Zagłębiem Ruhry? Nachhaltige Transformation aus 
 Sicht der Stadt- i ekonomia regionalna” (Autorski: prof. dr. Anna Grow
 e/Evelyn Riemer)\n\nDas Promotionskolleg JUST lädt ein zum gemeinsamen Fi
 lmschauen: Das Ruhrgebiet ist seit Jahren eine Region\, in der sich versch
 iedene Dimensionen von Transformation überschneiden und Menschen mit den 
 Herausforderungen einer post-industriellen Entwicklung umgehen müssen. De
 r Dokumentar-Film "Przeciwieństwo szarości" begleitet verschiedene Initiati
 ven und Personen dabei\, diesen Umgang von unten zu suchen.\n\n„Brachfl
 ächen\, Leerstand\, Anonymität\, Stillstand – nicht alle zwischen Dort
 mund und Duisburg wollen sich damit abfinden. Przeciwnie. Immer mehr Men
 schen entdecken Möglichkeiten und greifen in den städtischen Alltag ein.
  Ein Wohnzimmer mitten auf der Straße\, Nachbarschaft\, Gemeinschaftsgär
 ten. Stadtteilläden\, Repair Cafés und Mieter*inneninitiativen entstehen
  in den Nischen der Städte – unabhängig\, samostanowieni i razem
 . Das Gegenteil von Grau zeigt unterschiedliche Gruppen\, die praktische U
 topien und Freiräume leben und für ein solidarisches und ökologisches M
 iteinander im urbanen Raum kämpfen.“\n\nDokumentarfilm von Matthias Co
 ers und Recht auf Stadt Ruhr (2017)\, 90 Minuten\n\nZum Trailer\n\n
ATTACH;FMTTYPE=image/jpeg:https://www.die-dezentrale.net/wp-content/upload
 s/2025/04/Das-Gegenteil-von-Grau-Flyer-Vorderseite.jpg
CATEGORIES:cinematic,uczyć się,vortrag
END:VEVENT
BEGIN:VTIMEZONE
TZID:Europe/Berlin
X-LIC-LOCATION:Europe/Berlin
BEGIN:DAYLIGHT
DTSTART:20250330T030000
TZOFFSETFROM:+0100
TZOFFSETTO:+0200
TZNAME:CEST
END:DAYLIGHT
END:VTIMEZONE
END:VCALENDAR