BEGIN:VCALENDAR
VERSION:2.0
PRODID:-//wp-events-plugin.com//7.0.5//EN
TZID:Europe/Berlin
X-WR-TIMEZONE:Europe/Berlin
BEGIN:VEVENT
UID:9824@die-dezentrale.net
DTSTART;TZID=Europe/Berlin:20230823T190000
DTEND;TZID=Europe/Berlin:20230823T220000
DTSTAMP:20230811T134536Z
URL:https://www.die-dezentrale.net/events/fotos-in-kassel-2/
SUMMARY:Fotos in Kassel
DESCRIPTION:FOTOS IN KASSEL\n23. August\,19 Uhr\nSubterrain\, Sandershäuse
 r Straße 79\, Kassel\n\nKann das Betrachten einer Fotografie etwas zu Bew
 usstsein bringen\, das einem beim einfachen Registrieren-im-Vorbeigehen ve
 rborgen geblieben wäre?\nUnd was passiert\, wenn wir mit mehreren Mensche
 n gemeinsam Fotografien anschauen? Welche Einfälle\, Gedanken\, vielleich
 t auch Anekdoten können wir zusammentragen?\n\nKönnen wir anhand von Fot
 os der Stadt\, die wir alle zu kennen meinen\, gemeinsam etwas herausfinde
 n?\nKommen wir auf Zusammenhänge\, die über Kassel hinausgreifen?\nDiese
  Straße\, jenes Mietshaus\, das Einfamilienhaus dort.\nDie Kriege \,\,woa
 nders"\, die vielfach gespaltene Klasse der Habenichtse.\nEine Gesellschaf
 tsform\, welche die menschlichen Beziehungen prägt\, sich in die Architek
 tur einschreibt\, eine bestimmte Konstellation von Raum und Zeit benötigt
 \, um zu funktionieren.\n\nMatze Schmidt hat im Laufe der Zeit eine Menge 
 Foto-Sets erstellt und bisher vorwiegend in digitaler Form veröffentlicht
 .\nAn diesem Abend möchten wir einige der Fotografien an die Wand werfen 
 und mit euch ins Gespräch gehen.\n\nDer Eintritt ist frei. Der Veranstalt
 ungsort im Kellergeschoss des Sandershaus ist über einen etwas abschüssi
 gen Zuweg erreichbar\, die Toilette ist barrierefrei.
CATEGORIES:ausstellung,workshop
LOCATION:Subterrain | Sandershäuserstraße 79\, Kassel\, Hessen\, 34123\, 
 Deutschland
GEO:51.310718;9.527615
X-APPLE-STRUCTURED-LOCATION;VALUE=URI;X-ADDRESS=Sandershäuserstraße 79\, 
 Kassel\, Hessen\, 34123\, Deutschland;X-APPLE-RADIUS=100;X-TITLE=Subterrai
 n:geo:51.310718,9.527615
END:VEVENT
BEGIN:VTIMEZONE
TZID:Europe/Berlin
X-LIC-LOCATION:Europe/Berlin
BEGIN:DAYLIGHT
DTSTART:20230326T030000
TZOFFSETFROM:+0100
TZOFFSETTO:+0200
TZNAME:CEST
END:DAYLIGHT
END:VTIMEZONE
END:VCALENDAR