BEGIN:VCALENDAR
VERSION:2.0
PRODID:-//wp-events-plugin.com//7.0.5//EN
TZID:Europe/Berlin
X-WR-TIMEZONE:Europe/Berlin
BEGIN:VEVENT
UID:11942@die-dezentrale.net
DTSTART;TZID=Europe/Berlin:20241012T193000
DTEND;TZID=Europe/Berlin:20241012T201500
DTSTAMP:20241003T123045Z
URL:https://www.die-dezentrale.net/events/fuesse-hoch-oder-ich-schiesse-%e
 2%97%8f-performance-%e2%97%8f-2-vorstellung/
SUMMARY:Nogi do góry albo będę strzelał! ● WYDAJNOŚĆ ● 2. Vorstellung
DESCRIPTION:Nogi do góry albo będę strzelał!\nNILS LÖFKE | Performance\nWa
 s ist Mensch\, co jest obce? Nils konfrontuje się z naszą wizją- und Hörgewohn
 heiten mit dem Fremden\; Alltagsbewegungen treten außerirdischen Bewegung
 en gegenüber. Das Publikum darf Formen\, Aktionen\, Darstellungen oder Wa
 hrscheinlichkeiten auswählen\; das Ergebnis wird auf überraschende und u
 nerwartete Weise umgesetzt oder unterwandert. Bizarre Szenarien entstehen\
 , które dają nam do myślenia. Fragen werden aufgeworfen\, die keine einfa
 chen Antworten zulassen. Absurd i intymność stoją obok siebie. 
 Das Komische lädt verdammt nochmal zum Lachen und Staunen ein\nTriggerwar
 nung: Das folgende Stück enthält Elemente von Nacktheit
ATTACH;FMTTYPE=image/jpeg:https://www.die-dezentrale.net/wp-content/upload
 s/2024/09/Fuesse-hoch-oder-ich-schiesse-DEZENTRALE-1.jpg
CATEGORIES:performance
LOCATION:Dok 4 | Dolna Charles Street 4\, Kassel\, Hessen\, 34117\, Hessen\
 , Germany
GEO:51.314346;9.497863
X-APPLE-STRUCTURED-LOCATION;VALUE=URI;X-ADDRESS=Untere Karlsstraße 4\, Kas
 sel\, Hessen\, 34117\, Hessen\, Niemcy;X-APPLE-RADIUS=100;X-TITLE=Dock 4:
 geo:51.314346,9.497863
END:VEVENT
BEGIN:VTIMEZONE
TZID:Europe/Berlin
X-LIC-LOCATION:Europe/Berlin
BEGIN:DAYLIGHT
DTSTART:20240331T030000
TZOFFSETFROM:+0100
TZOFFSETTO:+0200
TZNAME:CEST
END:DAYLIGHT
END:VTIMEZONE
END:VCALENDAR